BEGIN:VCALENDAR
VERSION:2.0
PRODID:-//Trynwâlderein - ECPv6.15.11//NONSGML v1.0//EN
CALSCALE:GREGORIAN
METHOD:PUBLISH
X-WR-CALNAME:Trynwâlderein
X-ORIGINAL-URL:https://trynwalderein.nl
X-WR-CALDESC:Evenementen voor Trynwâlderein
REFRESH-INTERVAL;VALUE=DURATION:PT1H
X-Robots-Tag:noindex
X-PUBLISHED-TTL:PT1H
BEGIN:VTIMEZONE
TZID:UTC
BEGIN:STANDARD
TZOFFSETFROM:+0000
TZOFFSETTO:+0000
TZNAME:UTC
DTSTART:20250101T000000
END:STANDARD
END:VTIMEZONE
BEGIN:VTIMEZONE
TZID:Europe/Amsterdam
BEGIN:DAYLIGHT
TZOFFSETFROM:+0100
TZOFFSETTO:+0200
TZNAME:CEST
DTSTART:20250330T010000
END:DAYLIGHT
BEGIN:STANDARD
TZOFFSETFROM:+0200
TZOFFSETTO:+0100
TZNAME:CET
DTSTART:20251026T010000
END:STANDARD
BEGIN:DAYLIGHT
TZOFFSETFROM:+0100
TZOFFSETTO:+0200
TZNAME:CEST
DTSTART:20260329T010000
END:DAYLIGHT
BEGIN:STANDARD
TZOFFSETFROM:+0200
TZOFFSETTO:+0100
TZNAME:CET
DTSTART:20261025T010000
END:STANDARD
BEGIN:DAYLIGHT
TZOFFSETFROM:+0100
TZOFFSETTO:+0200
TZNAME:CEST
DTSTART:20270328T010000
END:DAYLIGHT
BEGIN:STANDARD
TZOFFSETFROM:+0200
TZOFFSETTO:+0100
TZNAME:CET
DTSTART:20271031T010000
END:STANDARD
END:VTIMEZONE
BEGIN:VEVENT
DTSTART;TZID=UTC:20260923T100000
DTEND;TZID=UTC:20260923T120000
DTSTAMP:20260424T220049
CREATED:20251111T120706Z
LAST-MODIFIED:20251111T120706Z
UID:10000569-1790157600-1790164800@trynwalderein.nl
SUMMARY:Inloop-koffie-ochtend Gytsjerk 'Sa Leuk Hûs'
DESCRIPTION:Iedere woensdag van 10.00 tot 12.00 uur \nVoor ouderen uit de omgeving\, gezamenlijk koffiedrinken en een gezellig praatje
URL:https://trynwalderein.nl/event/inloop-koffie-ochtend-gytsjerk-sa-leuk-hus/2026-09-23/
LOCATION:Canterlandseweg 1\, Gytsjerk\, Canterlandseweg 1\, Gytsjerk\, Friesland\, Netherlands
ATTACH;FMTTYPE=image/jpeg:https://trynwalderein.nl/wp-content/uploads/2025/11/ouderkoffie.jpg
ORGANIZER;CN="Sa Leuk H%C3%BBs":MAILTO:info@saleukhus.nl
END:VEVENT
BEGIN:VEVENT
DTSTART;TZID=UTC:20260923T133000
DTEND;TZID=UTC:20260923T163000
DTSTAMP:20260424T220049
CREATED:20251112T133654Z
LAST-MODIFIED:20251112T133654Z
UID:10001092-1790170200-1790181000@trynwalderein.nl
SUMMARY:Klaverjasgroep
DESCRIPTION:Kom ook klaverjassen in Heemstra State.
URL:https://trynwalderein.nl/event/klaverjasgroep/2026-09-23/
LOCATION:Heemstra State\, Frisiastate 23\, Oentsjerk\, Friesland\, Netherlands
ATTACH;FMTTYPE=image/jpeg:https://trynwalderein.nl/wp-content/uploads/2025/11/klaverjas.jpg
ORGANIZER;CN="noflikdwaande":MAILTO:info@noflikdwaande.nl
END:VEVENT
BEGIN:VEVENT
DTSTART;TZID=Europe/Amsterdam:20260924T150000
DTEND;TZID=Europe/Amsterdam:20260924T170000
DTSTAMP:20260424T220049
CREATED:20251110T102902Z
LAST-MODIFIED:20251111T114429Z
UID:10000307-1790262000-1790269200@trynwalderein.nl
SUMMARY:Koffiemiddag De Bân/Dbieb Gytsjerk
DESCRIPTION:Gezellig samenzijn met iedere donderdagmiddag een activiteit: spelletje\, discussie met behulp van vragen\, muziek\, zang en dergelijke.
URL:https://trynwalderein.nl/event/koffiemiddag-de-ban-dbieb-gytsjerk/2026-09-24/
LOCATION:Dorpshuis De Bân in bibliotheek Dbieb\, Simke Kloostermanstrjitte 6\, Gytsjerk\, Friesland\, 9061 BE\, Netherlands
ATTACH;FMTTYPE=image/jpeg:https://trynwalderein.nl/wp-content/uploads/2025/11/koffiemoment.jpg
ORGANIZER;CN="De B%C3%A2n/Dbieb Gytsjerk":MAILTO:ninibrink37@gmail.com
END:VEVENT
BEGIN:VEVENT
DTSTART;TZID=UTC:20260925T150000
DTEND;TZID=UTC:20260925T163000
DTSTAMP:20260424T220049
CREATED:20251112T155051Z
LAST-MODIFIED:20251112T155051Z
UID:10001615-1790348400-1790353800@trynwalderein.nl
SUMMARY:Digi-inloop
DESCRIPTION:deskundige hulp en advies bij problemen met computer\, smartphone of tablet.
URL:https://trynwalderein.nl/event/digi-inloop/2026-09-25/
LOCATION:Dorpshuis De Bân in bibliotheek Dbieb\, Simke Kloostermanstrjitte 6\, Gytsjerk\, Friesland\, 9061 BE\, Netherlands
ATTACH;FMTTYPE=image/jpeg:https://trynwalderein.nl/wp-content/uploads/2025/11/digiinloop.jpg
ORGANIZER;CN="De B%C3%A2n/Dbieb Gytsjerk":MAILTO:ninibrink37@gmail.com
END:VEVENT
BEGIN:VEVENT
DTSTART;TZID=UTC:20260928T093000
DTEND;TZID=UTC:20260928T113000
DTSTAMP:20260424T220049
CREATED:20251112T125506Z
LAST-MODIFIED:20251112T125506Z
UID:10000831-1790587800-1790595000@trynwalderein.nl
SUMMARY:Ontmoetingsplek Noflik Dwaande
DESCRIPTION:Voor alle inwoners in de Trynwâlden\, die gezellig samen willen zijn\, actief willen blijven of gezellig even willen praten.\nOp maandag: creatieve vaardigheid en op woensdag: handwerk
URL:https://trynwalderein.nl/event/ontmoetingsplek-noflik-dwaande/2026-09-28/
LOCATION:Frisiastate 24\, Frisiastate 24\, Oentsjerk\, Friesland\, Netherlands
ATTACH;FMTTYPE=image/jpeg:https://trynwalderein.nl/wp-content/uploads/2025/11/creatief.jpg
ORGANIZER;CN="Noflyk Wenje":MAILTO:info@noflikdwaande.nl
END:VEVENT
BEGIN:VEVENT
DTSTART;TZID=UTC:20260929T193000
DTEND;TZID=UTC:20260929T203000
DTSTAMP:20260424T220049
CREATED:20251112T154415Z
LAST-MODIFIED:20251112T154415Z
UID:10001354-1790710200-1790713800@trynwalderein.nl
SUMMARY:Yin Yoga
DESCRIPTION:een gezonde manier van bewegen die aansluit bij jouw lichaam. Het is een langzame vorm van yoga voor rustige houdingen die langere tijd worden vastgehouden. Toegankelijk voor iedereen uit Trynwȃlden.\nIedere dinsdag van 19.30 tot 20.30 uur + van 20.45 tot 21.45 uur.\nIedere donderdag van 19.00 tot 20.00 uur + van 20.15 tot 21.15 uur.\nBelangstelling\, vragen en/of aanmelden: via WhatsApp of via email.
URL:https://trynwalderein.nl/event/yin-yoga/2026-09-29/
LOCATION:Frisiastate 24\, Frisiastate 23\, Oentsjerk\, Friesland\, Netherlands
ATTACH;FMTTYPE=image/jpeg:https://trynwalderein.nl/wp-content/uploads/2025/11/yinyan.jpg
ORGANIZER;CN="lavendelwellness.nl":MAILTO:welkom@lavendelwellness.nl
END:VEVENT
BEGIN:VEVENT
DTSTART;TZID=UTC:20260930T100000
DTEND;TZID=UTC:20260930T120000
DTSTAMP:20260424T220049
CREATED:20251111T120706Z
LAST-MODIFIED:20251111T120706Z
UID:10000570-1790762400-1790769600@trynwalderein.nl
SUMMARY:Inloop-koffie-ochtend Gytsjerk 'Sa Leuk Hûs'
DESCRIPTION:Iedere woensdag van 10.00 tot 12.00 uur \nVoor ouderen uit de omgeving\, gezamenlijk koffiedrinken en een gezellig praatje
URL:https://trynwalderein.nl/event/inloop-koffie-ochtend-gytsjerk-sa-leuk-hus/2026-09-30/
LOCATION:Canterlandseweg 1\, Gytsjerk\, Canterlandseweg 1\, Gytsjerk\, Friesland\, Netherlands
ATTACH;FMTTYPE=image/jpeg:https://trynwalderein.nl/wp-content/uploads/2025/11/ouderkoffie.jpg
ORGANIZER;CN="Sa Leuk H%C3%BBs":MAILTO:info@saleukhus.nl
END:VEVENT
BEGIN:VEVENT
DTSTART;TZID=UTC:20260930T133000
DTEND;TZID=UTC:20260930T163000
DTSTAMP:20260424T220049
CREATED:20251112T133654Z
LAST-MODIFIED:20251112T133654Z
UID:10001093-1790775000-1790785800@trynwalderein.nl
SUMMARY:Klaverjasgroep
DESCRIPTION:Kom ook klaverjassen in Heemstra State.
URL:https://trynwalderein.nl/event/klaverjasgroep/2026-09-30/
LOCATION:Heemstra State\, Frisiastate 23\, Oentsjerk\, Friesland\, Netherlands
ATTACH;FMTTYPE=image/jpeg:https://trynwalderein.nl/wp-content/uploads/2025/11/klaverjas.jpg
ORGANIZER;CN="noflikdwaande":MAILTO:info@noflikdwaande.nl
END:VEVENT
BEGIN:VEVENT
DTSTART;TZID=Europe/Amsterdam:20261001T150000
DTEND;TZID=Europe/Amsterdam:20261001T170000
DTSTAMP:20260424T220049
CREATED:20251110T102902Z
LAST-MODIFIED:20251111T114429Z
UID:10000308-1790866800-1790874000@trynwalderein.nl
SUMMARY:Koffiemiddag De Bân/Dbieb Gytsjerk
DESCRIPTION:Gezellig samenzijn met iedere donderdagmiddag een activiteit: spelletje\, discussie met behulp van vragen\, muziek\, zang en dergelijke.
URL:https://trynwalderein.nl/event/koffiemiddag-de-ban-dbieb-gytsjerk/2026-10-01/
LOCATION:Dorpshuis De Bân in bibliotheek Dbieb\, Simke Kloostermanstrjitte 6\, Gytsjerk\, Friesland\, 9061 BE\, Netherlands
ATTACH;FMTTYPE=image/jpeg:https://trynwalderein.nl/wp-content/uploads/2025/11/koffiemoment.jpg
ORGANIZER;CN="De B%C3%A2n/Dbieb Gytsjerk":MAILTO:ninibrink37@gmail.com
END:VEVENT
BEGIN:VEVENT
DTSTART;TZID=UTC:20261002T150000
DTEND;TZID=UTC:20261002T163000
DTSTAMP:20260424T220049
CREATED:20251112T155051Z
LAST-MODIFIED:20251112T155051Z
UID:10001616-1790953200-1790958600@trynwalderein.nl
SUMMARY:Digi-inloop
DESCRIPTION:deskundige hulp en advies bij problemen met computer\, smartphone of tablet.
URL:https://trynwalderein.nl/event/digi-inloop/2026-10-02/
LOCATION:Dorpshuis De Bân in bibliotheek Dbieb\, Simke Kloostermanstrjitte 6\, Gytsjerk\, Friesland\, 9061 BE\, Netherlands
ATTACH;FMTTYPE=image/jpeg:https://trynwalderein.nl/wp-content/uploads/2025/11/digiinloop.jpg
ORGANIZER;CN="De B%C3%A2n/Dbieb Gytsjerk":MAILTO:ninibrink37@gmail.com
END:VEVENT
BEGIN:VEVENT
DTSTART;TZID=UTC:20261005T093000
DTEND;TZID=UTC:20261005T113000
DTSTAMP:20260424T220049
CREATED:20251112T125506Z
LAST-MODIFIED:20251112T125506Z
UID:10000832-1791192600-1791199800@trynwalderein.nl
SUMMARY:Ontmoetingsplek Noflik Dwaande
DESCRIPTION:Voor alle inwoners in de Trynwâlden\, die gezellig samen willen zijn\, actief willen blijven of gezellig even willen praten.\nOp maandag: creatieve vaardigheid en op woensdag: handwerk
URL:https://trynwalderein.nl/event/ontmoetingsplek-noflik-dwaande/2026-10-05/
LOCATION:Frisiastate 24\, Frisiastate 24\, Oentsjerk\, Friesland\, Netherlands
ATTACH;FMTTYPE=image/jpeg:https://trynwalderein.nl/wp-content/uploads/2025/11/creatief.jpg
ORGANIZER;CN="Noflyk Wenje":MAILTO:info@noflikdwaande.nl
END:VEVENT
BEGIN:VEVENT
DTSTART;TZID=UTC:20261006T193000
DTEND;TZID=UTC:20261006T203000
DTSTAMP:20260424T220049
CREATED:20251112T154415Z
LAST-MODIFIED:20251112T154415Z
UID:10001355-1791315000-1791318600@trynwalderein.nl
SUMMARY:Yin Yoga
DESCRIPTION:een gezonde manier van bewegen die aansluit bij jouw lichaam. Het is een langzame vorm van yoga voor rustige houdingen die langere tijd worden vastgehouden. Toegankelijk voor iedereen uit Trynwȃlden.\nIedere dinsdag van 19.30 tot 20.30 uur + van 20.45 tot 21.45 uur.\nIedere donderdag van 19.00 tot 20.00 uur + van 20.15 tot 21.15 uur.\nBelangstelling\, vragen en/of aanmelden: via WhatsApp of via email.
URL:https://trynwalderein.nl/event/yin-yoga/2026-10-06/
LOCATION:Frisiastate 24\, Frisiastate 23\, Oentsjerk\, Friesland\, Netherlands
ATTACH;FMTTYPE=image/jpeg:https://trynwalderein.nl/wp-content/uploads/2025/11/yinyan.jpg
ORGANIZER;CN="lavendelwellness.nl":MAILTO:welkom@lavendelwellness.nl
END:VEVENT
BEGIN:VEVENT
DTSTART;TZID=UTC:20261007T100000
DTEND;TZID=UTC:20261007T120000
DTSTAMP:20260424T220049
CREATED:20251111T120706Z
LAST-MODIFIED:20251111T120706Z
UID:10000571-1791367200-1791374400@trynwalderein.nl
SUMMARY:Inloop-koffie-ochtend Gytsjerk 'Sa Leuk Hûs'
DESCRIPTION:Iedere woensdag van 10.00 tot 12.00 uur \nVoor ouderen uit de omgeving\, gezamenlijk koffiedrinken en een gezellig praatje
URL:https://trynwalderein.nl/event/inloop-koffie-ochtend-gytsjerk-sa-leuk-hus/2026-10-07/
LOCATION:Canterlandseweg 1\, Gytsjerk\, Canterlandseweg 1\, Gytsjerk\, Friesland\, Netherlands
ATTACH;FMTTYPE=image/jpeg:https://trynwalderein.nl/wp-content/uploads/2025/11/ouderkoffie.jpg
ORGANIZER;CN="Sa Leuk H%C3%BBs":MAILTO:info@saleukhus.nl
END:VEVENT
BEGIN:VEVENT
DTSTART;TZID=UTC:20261007T133000
DTEND;TZID=UTC:20261007T163000
DTSTAMP:20260424T220049
CREATED:20251112T133654Z
LAST-MODIFIED:20251112T133654Z
UID:10001094-1791379800-1791390600@trynwalderein.nl
SUMMARY:Klaverjasgroep
DESCRIPTION:Kom ook klaverjassen in Heemstra State.
URL:https://trynwalderein.nl/event/klaverjasgroep/2026-10-07/
LOCATION:Heemstra State\, Frisiastate 23\, Oentsjerk\, Friesland\, Netherlands
ATTACH;FMTTYPE=image/jpeg:https://trynwalderein.nl/wp-content/uploads/2025/11/klaverjas.jpg
ORGANIZER;CN="noflikdwaande":MAILTO:info@noflikdwaande.nl
END:VEVENT
BEGIN:VEVENT
DTSTART;TZID=Europe/Amsterdam:20261008T150000
DTEND;TZID=Europe/Amsterdam:20261008T170000
DTSTAMP:20260424T220049
CREATED:20251110T102902Z
LAST-MODIFIED:20251111T114429Z
UID:10000309-1791471600-1791478800@trynwalderein.nl
SUMMARY:Koffiemiddag De Bân/Dbieb Gytsjerk
DESCRIPTION:Gezellig samenzijn met iedere donderdagmiddag een activiteit: spelletje\, discussie met behulp van vragen\, muziek\, zang en dergelijke.
URL:https://trynwalderein.nl/event/koffiemiddag-de-ban-dbieb-gytsjerk/2026-10-08/
LOCATION:Dorpshuis De Bân in bibliotheek Dbieb\, Simke Kloostermanstrjitte 6\, Gytsjerk\, Friesland\, 9061 BE\, Netherlands
ATTACH;FMTTYPE=image/jpeg:https://trynwalderein.nl/wp-content/uploads/2025/11/koffiemoment.jpg
ORGANIZER;CN="De B%C3%A2n/Dbieb Gytsjerk":MAILTO:ninibrink37@gmail.com
END:VEVENT
BEGIN:VEVENT
DTSTART;TZID=UTC:20261009T150000
DTEND;TZID=UTC:20261009T163000
DTSTAMP:20260424T220049
CREATED:20251112T155051Z
LAST-MODIFIED:20251112T155051Z
UID:10001617-1791558000-1791563400@trynwalderein.nl
SUMMARY:Digi-inloop
DESCRIPTION:deskundige hulp en advies bij problemen met computer\, smartphone of tablet.
URL:https://trynwalderein.nl/event/digi-inloop/2026-10-09/
LOCATION:Dorpshuis De Bân in bibliotheek Dbieb\, Simke Kloostermanstrjitte 6\, Gytsjerk\, Friesland\, 9061 BE\, Netherlands
ATTACH;FMTTYPE=image/jpeg:https://trynwalderein.nl/wp-content/uploads/2025/11/digiinloop.jpg
ORGANIZER;CN="De B%C3%A2n/Dbieb Gytsjerk":MAILTO:ninibrink37@gmail.com
END:VEVENT
BEGIN:VEVENT
DTSTART;TZID=UTC:20261012T093000
DTEND;TZID=UTC:20261012T113000
DTSTAMP:20260424T220049
CREATED:20251112T125506Z
LAST-MODIFIED:20251112T125506Z
UID:10000833-1791797400-1791804600@trynwalderein.nl
SUMMARY:Ontmoetingsplek Noflik Dwaande
DESCRIPTION:Voor alle inwoners in de Trynwâlden\, die gezellig samen willen zijn\, actief willen blijven of gezellig even willen praten.\nOp maandag: creatieve vaardigheid en op woensdag: handwerk
URL:https://trynwalderein.nl/event/ontmoetingsplek-noflik-dwaande/2026-10-12/
LOCATION:Frisiastate 24\, Frisiastate 24\, Oentsjerk\, Friesland\, Netherlands
ATTACH;FMTTYPE=image/jpeg:https://trynwalderein.nl/wp-content/uploads/2025/11/creatief.jpg
ORGANIZER;CN="Noflyk Wenje":MAILTO:info@noflikdwaande.nl
END:VEVENT
BEGIN:VEVENT
DTSTART;TZID=UTC:20261013T193000
DTEND;TZID=UTC:20261013T203000
DTSTAMP:20260424T220049
CREATED:20251112T154415Z
LAST-MODIFIED:20251112T154415Z
UID:10001356-1791919800-1791923400@trynwalderein.nl
SUMMARY:Yin Yoga
DESCRIPTION:een gezonde manier van bewegen die aansluit bij jouw lichaam. Het is een langzame vorm van yoga voor rustige houdingen die langere tijd worden vastgehouden. Toegankelijk voor iedereen uit Trynwȃlden.\nIedere dinsdag van 19.30 tot 20.30 uur + van 20.45 tot 21.45 uur.\nIedere donderdag van 19.00 tot 20.00 uur + van 20.15 tot 21.15 uur.\nBelangstelling\, vragen en/of aanmelden: via WhatsApp of via email.
URL:https://trynwalderein.nl/event/yin-yoga/2026-10-13/
LOCATION:Frisiastate 24\, Frisiastate 23\, Oentsjerk\, Friesland\, Netherlands
ATTACH;FMTTYPE=image/jpeg:https://trynwalderein.nl/wp-content/uploads/2025/11/yinyan.jpg
ORGANIZER;CN="lavendelwellness.nl":MAILTO:welkom@lavendelwellness.nl
END:VEVENT
BEGIN:VEVENT
DTSTART;TZID=UTC:20261014T100000
DTEND;TZID=UTC:20261014T120000
DTSTAMP:20260424T220049
CREATED:20251111T120706Z
LAST-MODIFIED:20251111T120706Z
UID:10000572-1791972000-1791979200@trynwalderein.nl
SUMMARY:Inloop-koffie-ochtend Gytsjerk 'Sa Leuk Hûs'
DESCRIPTION:Iedere woensdag van 10.00 tot 12.00 uur \nVoor ouderen uit de omgeving\, gezamenlijk koffiedrinken en een gezellig praatje
URL:https://trynwalderein.nl/event/inloop-koffie-ochtend-gytsjerk-sa-leuk-hus/2026-10-14/
LOCATION:Canterlandseweg 1\, Gytsjerk\, Canterlandseweg 1\, Gytsjerk\, Friesland\, Netherlands
ATTACH;FMTTYPE=image/jpeg:https://trynwalderein.nl/wp-content/uploads/2025/11/ouderkoffie.jpg
ORGANIZER;CN="Sa Leuk H%C3%BBs":MAILTO:info@saleukhus.nl
END:VEVENT
BEGIN:VEVENT
DTSTART;TZID=UTC:20261014T133000
DTEND;TZID=UTC:20261014T163000
DTSTAMP:20260424T220049
CREATED:20251112T133654Z
LAST-MODIFIED:20251112T133654Z
UID:10001095-1791984600-1791995400@trynwalderein.nl
SUMMARY:Klaverjasgroep
DESCRIPTION:Kom ook klaverjassen in Heemstra State.
URL:https://trynwalderein.nl/event/klaverjasgroep/2026-10-14/
LOCATION:Heemstra State\, Frisiastate 23\, Oentsjerk\, Friesland\, Netherlands
ATTACH;FMTTYPE=image/jpeg:https://trynwalderein.nl/wp-content/uploads/2025/11/klaverjas.jpg
ORGANIZER;CN="noflikdwaande":MAILTO:info@noflikdwaande.nl
END:VEVENT
BEGIN:VEVENT
DTSTART;TZID=Europe/Amsterdam:20261015T150000
DTEND;TZID=Europe/Amsterdam:20261015T170000
DTSTAMP:20260424T220049
CREATED:20251110T102902Z
LAST-MODIFIED:20251111T114429Z
UID:10000310-1792076400-1792083600@trynwalderein.nl
SUMMARY:Koffiemiddag De Bân/Dbieb Gytsjerk
DESCRIPTION:Gezellig samenzijn met iedere donderdagmiddag een activiteit: spelletje\, discussie met behulp van vragen\, muziek\, zang en dergelijke.
URL:https://trynwalderein.nl/event/koffiemiddag-de-ban-dbieb-gytsjerk/2026-10-15/
LOCATION:Dorpshuis De Bân in bibliotheek Dbieb\, Simke Kloostermanstrjitte 6\, Gytsjerk\, Friesland\, 9061 BE\, Netherlands
ATTACH;FMTTYPE=image/jpeg:https://trynwalderein.nl/wp-content/uploads/2025/11/koffiemoment.jpg
ORGANIZER;CN="De B%C3%A2n/Dbieb Gytsjerk":MAILTO:ninibrink37@gmail.com
END:VEVENT
BEGIN:VEVENT
DTSTART;TZID=UTC:20261016T150000
DTEND;TZID=UTC:20261016T163000
DTSTAMP:20260424T220049
CREATED:20251112T155051Z
LAST-MODIFIED:20251112T155051Z
UID:10001618-1792162800-1792168200@trynwalderein.nl
SUMMARY:Digi-inloop
DESCRIPTION:deskundige hulp en advies bij problemen met computer\, smartphone of tablet.
URL:https://trynwalderein.nl/event/digi-inloop/2026-10-16/
LOCATION:Dorpshuis De Bân in bibliotheek Dbieb\, Simke Kloostermanstrjitte 6\, Gytsjerk\, Friesland\, 9061 BE\, Netherlands
ATTACH;FMTTYPE=image/jpeg:https://trynwalderein.nl/wp-content/uploads/2025/11/digiinloop.jpg
ORGANIZER;CN="De B%C3%A2n/Dbieb Gytsjerk":MAILTO:ninibrink37@gmail.com
END:VEVENT
BEGIN:VEVENT
DTSTART;TZID=UTC:20261019T093000
DTEND;TZID=UTC:20261019T113000
DTSTAMP:20260424T220049
CREATED:20251112T125506Z
LAST-MODIFIED:20251112T125506Z
UID:10000834-1792402200-1792409400@trynwalderein.nl
SUMMARY:Ontmoetingsplek Noflik Dwaande
DESCRIPTION:Voor alle inwoners in de Trynwâlden\, die gezellig samen willen zijn\, actief willen blijven of gezellig even willen praten.\nOp maandag: creatieve vaardigheid en op woensdag: handwerk
URL:https://trynwalderein.nl/event/ontmoetingsplek-noflik-dwaande/2026-10-19/
LOCATION:Frisiastate 24\, Frisiastate 24\, Oentsjerk\, Friesland\, Netherlands
ATTACH;FMTTYPE=image/jpeg:https://trynwalderein.nl/wp-content/uploads/2025/11/creatief.jpg
ORGANIZER;CN="Noflyk Wenje":MAILTO:info@noflikdwaande.nl
END:VEVENT
BEGIN:VEVENT
DTSTART;TZID=UTC:20261020T193000
DTEND;TZID=UTC:20261020T203000
DTSTAMP:20260424T220049
CREATED:20251112T154415Z
LAST-MODIFIED:20251112T154415Z
UID:10001357-1792524600-1792528200@trynwalderein.nl
SUMMARY:Yin Yoga
DESCRIPTION:een gezonde manier van bewegen die aansluit bij jouw lichaam. Het is een langzame vorm van yoga voor rustige houdingen die langere tijd worden vastgehouden. Toegankelijk voor iedereen uit Trynwȃlden.\nIedere dinsdag van 19.30 tot 20.30 uur + van 20.45 tot 21.45 uur.\nIedere donderdag van 19.00 tot 20.00 uur + van 20.15 tot 21.15 uur.\nBelangstelling\, vragen en/of aanmelden: via WhatsApp of via email.
URL:https://trynwalderein.nl/event/yin-yoga/2026-10-20/
LOCATION:Frisiastate 24\, Frisiastate 23\, Oentsjerk\, Friesland\, Netherlands
ATTACH;FMTTYPE=image/jpeg:https://trynwalderein.nl/wp-content/uploads/2025/11/yinyan.jpg
ORGANIZER;CN="lavendelwellness.nl":MAILTO:welkom@lavendelwellness.nl
END:VEVENT
BEGIN:VEVENT
DTSTART;TZID=UTC:20261021T100000
DTEND;TZID=UTC:20261021T120000
DTSTAMP:20260424T220049
CREATED:20251111T120706Z
LAST-MODIFIED:20251111T120706Z
UID:10000573-1792576800-1792584000@trynwalderein.nl
SUMMARY:Inloop-koffie-ochtend Gytsjerk 'Sa Leuk Hûs'
DESCRIPTION:Iedere woensdag van 10.00 tot 12.00 uur \nVoor ouderen uit de omgeving\, gezamenlijk koffiedrinken en een gezellig praatje
URL:https://trynwalderein.nl/event/inloop-koffie-ochtend-gytsjerk-sa-leuk-hus/2026-10-21/
LOCATION:Canterlandseweg 1\, Gytsjerk\, Canterlandseweg 1\, Gytsjerk\, Friesland\, Netherlands
ATTACH;FMTTYPE=image/jpeg:https://trynwalderein.nl/wp-content/uploads/2025/11/ouderkoffie.jpg
ORGANIZER;CN="Sa Leuk H%C3%BBs":MAILTO:info@saleukhus.nl
END:VEVENT
BEGIN:VEVENT
DTSTART;TZID=UTC:20261021T133000
DTEND;TZID=UTC:20261021T163000
DTSTAMP:20260424T220049
CREATED:20251112T133654Z
LAST-MODIFIED:20251112T133654Z
UID:10001096-1792589400-1792600200@trynwalderein.nl
SUMMARY:Klaverjasgroep
DESCRIPTION:Kom ook klaverjassen in Heemstra State.
URL:https://trynwalderein.nl/event/klaverjasgroep/2026-10-21/
LOCATION:Heemstra State\, Frisiastate 23\, Oentsjerk\, Friesland\, Netherlands
ATTACH;FMTTYPE=image/jpeg:https://trynwalderein.nl/wp-content/uploads/2025/11/klaverjas.jpg
ORGANIZER;CN="noflikdwaande":MAILTO:info@noflikdwaande.nl
END:VEVENT
BEGIN:VEVENT
DTSTART;TZID=Europe/Amsterdam:20261022T150000
DTEND;TZID=Europe/Amsterdam:20261022T170000
DTSTAMP:20260424T220050
CREATED:20251110T102902Z
LAST-MODIFIED:20251111T114429Z
UID:10000311-1792681200-1792688400@trynwalderein.nl
SUMMARY:Koffiemiddag De Bân/Dbieb Gytsjerk
DESCRIPTION:Gezellig samenzijn met iedere donderdagmiddag een activiteit: spelletje\, discussie met behulp van vragen\, muziek\, zang en dergelijke.
URL:https://trynwalderein.nl/event/koffiemiddag-de-ban-dbieb-gytsjerk/2026-10-22/
LOCATION:Dorpshuis De Bân in bibliotheek Dbieb\, Simke Kloostermanstrjitte 6\, Gytsjerk\, Friesland\, 9061 BE\, Netherlands
ATTACH;FMTTYPE=image/jpeg:https://trynwalderein.nl/wp-content/uploads/2025/11/koffiemoment.jpg
ORGANIZER;CN="De B%C3%A2n/Dbieb Gytsjerk":MAILTO:ninibrink37@gmail.com
END:VEVENT
BEGIN:VEVENT
DTSTART;TZID=UTC:20261023T150000
DTEND;TZID=UTC:20261023T163000
DTSTAMP:20260424T220050
CREATED:20251112T155051Z
LAST-MODIFIED:20251112T155051Z
UID:10001619-1792767600-1792773000@trynwalderein.nl
SUMMARY:Digi-inloop
DESCRIPTION:deskundige hulp en advies bij problemen met computer\, smartphone of tablet.
URL:https://trynwalderein.nl/event/digi-inloop/2026-10-23/
LOCATION:Dorpshuis De Bân in bibliotheek Dbieb\, Simke Kloostermanstrjitte 6\, Gytsjerk\, Friesland\, 9061 BE\, Netherlands
ATTACH;FMTTYPE=image/jpeg:https://trynwalderein.nl/wp-content/uploads/2025/11/digiinloop.jpg
ORGANIZER;CN="De B%C3%A2n/Dbieb Gytsjerk":MAILTO:ninibrink37@gmail.com
END:VEVENT
BEGIN:VEVENT
DTSTART;TZID=UTC:20261026T093000
DTEND;TZID=UTC:20261026T113000
DTSTAMP:20260424T220050
CREATED:20251112T125506Z
LAST-MODIFIED:20251112T125506Z
UID:10000835-1793007000-1793014200@trynwalderein.nl
SUMMARY:Ontmoetingsplek Noflik Dwaande
DESCRIPTION:Voor alle inwoners in de Trynwâlden\, die gezellig samen willen zijn\, actief willen blijven of gezellig even willen praten.\nOp maandag: creatieve vaardigheid en op woensdag: handwerk
URL:https://trynwalderein.nl/event/ontmoetingsplek-noflik-dwaande/2026-10-26/
LOCATION:Frisiastate 24\, Frisiastate 24\, Oentsjerk\, Friesland\, Netherlands
ATTACH;FMTTYPE=image/jpeg:https://trynwalderein.nl/wp-content/uploads/2025/11/creatief.jpg
ORGANIZER;CN="Noflyk Wenje":MAILTO:info@noflikdwaande.nl
END:VEVENT
BEGIN:VEVENT
DTSTART;TZID=UTC:20261027T193000
DTEND;TZID=UTC:20261027T203000
DTSTAMP:20260424T220050
CREATED:20251112T154415Z
LAST-MODIFIED:20251112T154415Z
UID:10001358-1793129400-1793133000@trynwalderein.nl
SUMMARY:Yin Yoga
DESCRIPTION:een gezonde manier van bewegen die aansluit bij jouw lichaam. Het is een langzame vorm van yoga voor rustige houdingen die langere tijd worden vastgehouden. Toegankelijk voor iedereen uit Trynwȃlden.\nIedere dinsdag van 19.30 tot 20.30 uur + van 20.45 tot 21.45 uur.\nIedere donderdag van 19.00 tot 20.00 uur + van 20.15 tot 21.15 uur.\nBelangstelling\, vragen en/of aanmelden: via WhatsApp of via email.
URL:https://trynwalderein.nl/event/yin-yoga/2026-10-27/
LOCATION:Frisiastate 24\, Frisiastate 23\, Oentsjerk\, Friesland\, Netherlands
ATTACH;FMTTYPE=image/jpeg:https://trynwalderein.nl/wp-content/uploads/2025/11/yinyan.jpg
ORGANIZER;CN="lavendelwellness.nl":MAILTO:welkom@lavendelwellness.nl
END:VEVENT
END:VCALENDAR