BEGIN:VCALENDAR
VERSION:2.0
PRODID:-//Trynwâlderein - ECPv6.15.11//NONSGML v1.0//EN
CALSCALE:GREGORIAN
METHOD:PUBLISH
X-WR-CALNAME:Trynwâlderein
X-ORIGINAL-URL:https://trynwalderein.nl
X-WR-CALDESC:Evenementen voor Trynwâlderein
REFRESH-INTERVAL;VALUE=DURATION:PT1H
X-Robots-Tag:noindex
X-PUBLISHED-TTL:PT1H
BEGIN:VTIMEZONE
TZID:UTC
BEGIN:STANDARD
TZOFFSETFROM:+0000
TZOFFSETTO:+0000
TZNAME:UTC
DTSTART:20250101T000000
END:STANDARD
END:VTIMEZONE
BEGIN:VTIMEZONE
TZID:Europe/Amsterdam
BEGIN:DAYLIGHT
TZOFFSETFROM:+0100
TZOFFSETTO:+0200
TZNAME:CEST
DTSTART:20250330T010000
END:DAYLIGHT
BEGIN:STANDARD
TZOFFSETFROM:+0200
TZOFFSETTO:+0100
TZNAME:CET
DTSTART:20251026T010000
END:STANDARD
BEGIN:DAYLIGHT
TZOFFSETFROM:+0100
TZOFFSETTO:+0200
TZNAME:CEST
DTSTART:20260329T010000
END:DAYLIGHT
BEGIN:STANDARD
TZOFFSETFROM:+0200
TZOFFSETTO:+0100
TZNAME:CET
DTSTART:20261025T010000
END:STANDARD
BEGIN:DAYLIGHT
TZOFFSETFROM:+0100
TZOFFSETTO:+0200
TZNAME:CEST
DTSTART:20270328T010000
END:DAYLIGHT
BEGIN:STANDARD
TZOFFSETFROM:+0200
TZOFFSETTO:+0100
TZNAME:CET
DTSTART:20271031T010000
END:STANDARD
END:VTIMEZONE
BEGIN:VEVENT
DTSTART;TZID=UTC:20260727T093000
DTEND;TZID=UTC:20260727T113000
DTSTAMP:20260424T192606
CREATED:20251112T125506Z
LAST-MODIFIED:20251112T125506Z
UID:10000822-1785144600-1785151800@trynwalderein.nl
SUMMARY:Ontmoetingsplek Noflik Dwaande
DESCRIPTION:Voor alle inwoners in de Trynwâlden\, die gezellig samen willen zijn\, actief willen blijven of gezellig even willen praten.\nOp maandag: creatieve vaardigheid en op woensdag: handwerk
URL:https://trynwalderein.nl/event/ontmoetingsplek-noflik-dwaande/2026-07-27/
LOCATION:Frisiastate 24\, Frisiastate 24\, Oentsjerk\, Friesland\, Netherlands
ATTACH;FMTTYPE=image/jpeg:https://trynwalderein.nl/wp-content/uploads/2025/11/creatief.jpg
ORGANIZER;CN="Noflyk Wenje":MAILTO:info@noflikdwaande.nl
END:VEVENT
BEGIN:VEVENT
DTSTART;TZID=UTC:20260728T193000
DTEND;TZID=UTC:20260728T203000
DTSTAMP:20260424T192606
CREATED:20251112T154415Z
LAST-MODIFIED:20251112T154415Z
UID:10001345-1785267000-1785270600@trynwalderein.nl
SUMMARY:Yin Yoga
DESCRIPTION:een gezonde manier van bewegen die aansluit bij jouw lichaam. Het is een langzame vorm van yoga voor rustige houdingen die langere tijd worden vastgehouden. Toegankelijk voor iedereen uit Trynwȃlden.\nIedere dinsdag van 19.30 tot 20.30 uur + van 20.45 tot 21.45 uur.\nIedere donderdag van 19.00 tot 20.00 uur + van 20.15 tot 21.15 uur.\nBelangstelling\, vragen en/of aanmelden: via WhatsApp of via email.
URL:https://trynwalderein.nl/event/yin-yoga/2026-07-28/
LOCATION:Frisiastate 24\, Frisiastate 23\, Oentsjerk\, Friesland\, Netherlands
ATTACH;FMTTYPE=image/jpeg:https://trynwalderein.nl/wp-content/uploads/2025/11/yinyan.jpg
ORGANIZER;CN="lavendelwellness.nl":MAILTO:welkom@lavendelwellness.nl
END:VEVENT
BEGIN:VEVENT
DTSTART;TZID=UTC:20260729T100000
DTEND;TZID=UTC:20260729T120000
DTSTAMP:20260424T192606
CREATED:20251111T120706Z
LAST-MODIFIED:20251111T120706Z
UID:10000561-1785319200-1785326400@trynwalderein.nl
SUMMARY:Inloop-koffie-ochtend Gytsjerk 'Sa Leuk Hûs'
DESCRIPTION:Iedere woensdag van 10.00 tot 12.00 uur \nVoor ouderen uit de omgeving\, gezamenlijk koffiedrinken en een gezellig praatje
URL:https://trynwalderein.nl/event/inloop-koffie-ochtend-gytsjerk-sa-leuk-hus/2026-07-29/
LOCATION:Canterlandseweg 1\, Gytsjerk\, Canterlandseweg 1\, Gytsjerk\, Friesland\, Netherlands
ATTACH;FMTTYPE=image/jpeg:https://trynwalderein.nl/wp-content/uploads/2025/11/ouderkoffie.jpg
ORGANIZER;CN="Sa Leuk H%C3%BBs":MAILTO:info@saleukhus.nl
END:VEVENT
BEGIN:VEVENT
DTSTART;TZID=UTC:20260729T133000
DTEND;TZID=UTC:20260729T163000
DTSTAMP:20260424T192606
CREATED:20251112T133654Z
LAST-MODIFIED:20251112T133654Z
UID:10001084-1785331800-1785342600@trynwalderein.nl
SUMMARY:Klaverjasgroep
DESCRIPTION:Kom ook klaverjassen in Heemstra State.
URL:https://trynwalderein.nl/event/klaverjasgroep/2026-07-29/
LOCATION:Heemstra State\, Frisiastate 23\, Oentsjerk\, Friesland\, Netherlands
ATTACH;FMTTYPE=image/jpeg:https://trynwalderein.nl/wp-content/uploads/2025/11/klaverjas.jpg
ORGANIZER;CN="noflikdwaande":MAILTO:info@noflikdwaande.nl
END:VEVENT
BEGIN:VEVENT
DTSTART;TZID=Europe/Amsterdam:20260730T150000
DTEND;TZID=Europe/Amsterdam:20260730T170000
DTSTAMP:20260424T192606
CREATED:20251110T102902Z
LAST-MODIFIED:20251111T114429Z
UID:10000299-1785423600-1785430800@trynwalderein.nl
SUMMARY:Koffiemiddag De Bân/Dbieb Gytsjerk
DESCRIPTION:Gezellig samenzijn met iedere donderdagmiddag een activiteit: spelletje\, discussie met behulp van vragen\, muziek\, zang en dergelijke.
URL:https://trynwalderein.nl/event/koffiemiddag-de-ban-dbieb-gytsjerk/2026-07-30/
LOCATION:Dorpshuis De Bân in bibliotheek Dbieb\, Simke Kloostermanstrjitte 6\, Gytsjerk\, Friesland\, 9061 BE\, Netherlands
ATTACH;FMTTYPE=image/jpeg:https://trynwalderein.nl/wp-content/uploads/2025/11/koffiemoment.jpg
ORGANIZER;CN="De B%C3%A2n/Dbieb Gytsjerk":MAILTO:ninibrink37@gmail.com
END:VEVENT
BEGIN:VEVENT
DTSTART;TZID=UTC:20260731T150000
DTEND;TZID=UTC:20260731T163000
DTSTAMP:20260424T192606
CREATED:20251112T155051Z
LAST-MODIFIED:20251112T155051Z
UID:10001607-1785510000-1785515400@trynwalderein.nl
SUMMARY:Digi-inloop
DESCRIPTION:deskundige hulp en advies bij problemen met computer\, smartphone of tablet.
URL:https://trynwalderein.nl/event/digi-inloop/2026-07-31/
LOCATION:Dorpshuis De Bân in bibliotheek Dbieb\, Simke Kloostermanstrjitte 6\, Gytsjerk\, Friesland\, 9061 BE\, Netherlands
ATTACH;FMTTYPE=image/jpeg:https://trynwalderein.nl/wp-content/uploads/2025/11/digiinloop.jpg
ORGANIZER;CN="De B%C3%A2n/Dbieb Gytsjerk":MAILTO:ninibrink37@gmail.com
END:VEVENT
BEGIN:VEVENT
DTSTART;TZID=UTC:20260803T093000
DTEND;TZID=UTC:20260803T113000
DTSTAMP:20260424T192606
CREATED:20251112T125506Z
LAST-MODIFIED:20251112T125506Z
UID:10000823-1785749400-1785756600@trynwalderein.nl
SUMMARY:Ontmoetingsplek Noflik Dwaande
DESCRIPTION:Voor alle inwoners in de Trynwâlden\, die gezellig samen willen zijn\, actief willen blijven of gezellig even willen praten.\nOp maandag: creatieve vaardigheid en op woensdag: handwerk
URL:https://trynwalderein.nl/event/ontmoetingsplek-noflik-dwaande/2026-08-03/
LOCATION:Frisiastate 24\, Frisiastate 24\, Oentsjerk\, Friesland\, Netherlands
ATTACH;FMTTYPE=image/jpeg:https://trynwalderein.nl/wp-content/uploads/2025/11/creatief.jpg
ORGANIZER;CN="Noflyk Wenje":MAILTO:info@noflikdwaande.nl
END:VEVENT
BEGIN:VEVENT
DTSTART;TZID=UTC:20260804T193000
DTEND;TZID=UTC:20260804T203000
DTSTAMP:20260424T192606
CREATED:20251112T154415Z
LAST-MODIFIED:20251112T154415Z
UID:10001346-1785871800-1785875400@trynwalderein.nl
SUMMARY:Yin Yoga
DESCRIPTION:een gezonde manier van bewegen die aansluit bij jouw lichaam. Het is een langzame vorm van yoga voor rustige houdingen die langere tijd worden vastgehouden. Toegankelijk voor iedereen uit Trynwȃlden.\nIedere dinsdag van 19.30 tot 20.30 uur + van 20.45 tot 21.45 uur.\nIedere donderdag van 19.00 tot 20.00 uur + van 20.15 tot 21.15 uur.\nBelangstelling\, vragen en/of aanmelden: via WhatsApp of via email.
URL:https://trynwalderein.nl/event/yin-yoga/2026-08-04/
LOCATION:Frisiastate 24\, Frisiastate 23\, Oentsjerk\, Friesland\, Netherlands
ATTACH;FMTTYPE=image/jpeg:https://trynwalderein.nl/wp-content/uploads/2025/11/yinyan.jpg
ORGANIZER;CN="lavendelwellness.nl":MAILTO:welkom@lavendelwellness.nl
END:VEVENT
BEGIN:VEVENT
DTSTART;TZID=UTC:20260805T100000
DTEND;TZID=UTC:20260805T120000
DTSTAMP:20260424T192606
CREATED:20251111T120706Z
LAST-MODIFIED:20251111T120706Z
UID:10000562-1785924000-1785931200@trynwalderein.nl
SUMMARY:Inloop-koffie-ochtend Gytsjerk 'Sa Leuk Hûs'
DESCRIPTION:Iedere woensdag van 10.00 tot 12.00 uur \nVoor ouderen uit de omgeving\, gezamenlijk koffiedrinken en een gezellig praatje
URL:https://trynwalderein.nl/event/inloop-koffie-ochtend-gytsjerk-sa-leuk-hus/2026-08-05/
LOCATION:Canterlandseweg 1\, Gytsjerk\, Canterlandseweg 1\, Gytsjerk\, Friesland\, Netherlands
ATTACH;FMTTYPE=image/jpeg:https://trynwalderein.nl/wp-content/uploads/2025/11/ouderkoffie.jpg
ORGANIZER;CN="Sa Leuk H%C3%BBs":MAILTO:info@saleukhus.nl
END:VEVENT
BEGIN:VEVENT
DTSTART;TZID=UTC:20260805T133000
DTEND;TZID=UTC:20260805T163000
DTSTAMP:20260424T192606
CREATED:20251112T133654Z
LAST-MODIFIED:20251112T133654Z
UID:10001085-1785936600-1785947400@trynwalderein.nl
SUMMARY:Klaverjasgroep
DESCRIPTION:Kom ook klaverjassen in Heemstra State.
URL:https://trynwalderein.nl/event/klaverjasgroep/2026-08-05/
LOCATION:Heemstra State\, Frisiastate 23\, Oentsjerk\, Friesland\, Netherlands
ATTACH;FMTTYPE=image/jpeg:https://trynwalderein.nl/wp-content/uploads/2025/11/klaverjas.jpg
ORGANIZER;CN="noflikdwaande":MAILTO:info@noflikdwaande.nl
END:VEVENT
BEGIN:VEVENT
DTSTART;TZID=Europe/Amsterdam:20260806T150000
DTEND;TZID=Europe/Amsterdam:20260806T170000
DTSTAMP:20260424T192606
CREATED:20251110T102902Z
LAST-MODIFIED:20251111T114429Z
UID:10000300-1786028400-1786035600@trynwalderein.nl
SUMMARY:Koffiemiddag De Bân/Dbieb Gytsjerk
DESCRIPTION:Gezellig samenzijn met iedere donderdagmiddag een activiteit: spelletje\, discussie met behulp van vragen\, muziek\, zang en dergelijke.
URL:https://trynwalderein.nl/event/koffiemiddag-de-ban-dbieb-gytsjerk/2026-08-06/
LOCATION:Dorpshuis De Bân in bibliotheek Dbieb\, Simke Kloostermanstrjitte 6\, Gytsjerk\, Friesland\, 9061 BE\, Netherlands
ATTACH;FMTTYPE=image/jpeg:https://trynwalderein.nl/wp-content/uploads/2025/11/koffiemoment.jpg
ORGANIZER;CN="De B%C3%A2n/Dbieb Gytsjerk":MAILTO:ninibrink37@gmail.com
END:VEVENT
BEGIN:VEVENT
DTSTART;TZID=UTC:20260807T150000
DTEND;TZID=UTC:20260807T163000
DTSTAMP:20260424T192606
CREATED:20251112T155051Z
LAST-MODIFIED:20251112T155051Z
UID:10001608-1786114800-1786120200@trynwalderein.nl
SUMMARY:Digi-inloop
DESCRIPTION:deskundige hulp en advies bij problemen met computer\, smartphone of tablet.
URL:https://trynwalderein.nl/event/digi-inloop/2026-08-07/
LOCATION:Dorpshuis De Bân in bibliotheek Dbieb\, Simke Kloostermanstrjitte 6\, Gytsjerk\, Friesland\, 9061 BE\, Netherlands
ATTACH;FMTTYPE=image/jpeg:https://trynwalderein.nl/wp-content/uploads/2025/11/digiinloop.jpg
ORGANIZER;CN="De B%C3%A2n/Dbieb Gytsjerk":MAILTO:ninibrink37@gmail.com
END:VEVENT
BEGIN:VEVENT
DTSTART;TZID=UTC:20260810T093000
DTEND;TZID=UTC:20260810T113000
DTSTAMP:20260424T192606
CREATED:20251112T125506Z
LAST-MODIFIED:20251112T125506Z
UID:10000824-1786354200-1786361400@trynwalderein.nl
SUMMARY:Ontmoetingsplek Noflik Dwaande
DESCRIPTION:Voor alle inwoners in de Trynwâlden\, die gezellig samen willen zijn\, actief willen blijven of gezellig even willen praten.\nOp maandag: creatieve vaardigheid en op woensdag: handwerk
URL:https://trynwalderein.nl/event/ontmoetingsplek-noflik-dwaande/2026-08-10/
LOCATION:Frisiastate 24\, Frisiastate 24\, Oentsjerk\, Friesland\, Netherlands
ATTACH;FMTTYPE=image/jpeg:https://trynwalderein.nl/wp-content/uploads/2025/11/creatief.jpg
ORGANIZER;CN="Noflyk Wenje":MAILTO:info@noflikdwaande.nl
END:VEVENT
BEGIN:VEVENT
DTSTART;TZID=UTC:20260811T193000
DTEND;TZID=UTC:20260811T203000
DTSTAMP:20260424T192606
CREATED:20251112T154415Z
LAST-MODIFIED:20251112T154415Z
UID:10001347-1786476600-1786480200@trynwalderein.nl
SUMMARY:Yin Yoga
DESCRIPTION:een gezonde manier van bewegen die aansluit bij jouw lichaam. Het is een langzame vorm van yoga voor rustige houdingen die langere tijd worden vastgehouden. Toegankelijk voor iedereen uit Trynwȃlden.\nIedere dinsdag van 19.30 tot 20.30 uur + van 20.45 tot 21.45 uur.\nIedere donderdag van 19.00 tot 20.00 uur + van 20.15 tot 21.15 uur.\nBelangstelling\, vragen en/of aanmelden: via WhatsApp of via email.
URL:https://trynwalderein.nl/event/yin-yoga/2026-08-11/
LOCATION:Frisiastate 24\, Frisiastate 23\, Oentsjerk\, Friesland\, Netherlands
ATTACH;FMTTYPE=image/jpeg:https://trynwalderein.nl/wp-content/uploads/2025/11/yinyan.jpg
ORGANIZER;CN="lavendelwellness.nl":MAILTO:welkom@lavendelwellness.nl
END:VEVENT
BEGIN:VEVENT
DTSTART;TZID=UTC:20260812T100000
DTEND;TZID=UTC:20260812T120000
DTSTAMP:20260424T192606
CREATED:20251111T120706Z
LAST-MODIFIED:20251111T120706Z
UID:10000563-1786528800-1786536000@trynwalderein.nl
SUMMARY:Inloop-koffie-ochtend Gytsjerk 'Sa Leuk Hûs'
DESCRIPTION:Iedere woensdag van 10.00 tot 12.00 uur \nVoor ouderen uit de omgeving\, gezamenlijk koffiedrinken en een gezellig praatje
URL:https://trynwalderein.nl/event/inloop-koffie-ochtend-gytsjerk-sa-leuk-hus/2026-08-12/
LOCATION:Canterlandseweg 1\, Gytsjerk\, Canterlandseweg 1\, Gytsjerk\, Friesland\, Netherlands
ATTACH;FMTTYPE=image/jpeg:https://trynwalderein.nl/wp-content/uploads/2025/11/ouderkoffie.jpg
ORGANIZER;CN="Sa Leuk H%C3%BBs":MAILTO:info@saleukhus.nl
END:VEVENT
BEGIN:VEVENT
DTSTART;TZID=UTC:20260812T133000
DTEND;TZID=UTC:20260812T163000
DTSTAMP:20260424T192607
CREATED:20251112T133654Z
LAST-MODIFIED:20251112T133654Z
UID:10001086-1786541400-1786552200@trynwalderein.nl
SUMMARY:Klaverjasgroep
DESCRIPTION:Kom ook klaverjassen in Heemstra State.
URL:https://trynwalderein.nl/event/klaverjasgroep/2026-08-12/
LOCATION:Heemstra State\, Frisiastate 23\, Oentsjerk\, Friesland\, Netherlands
ATTACH;FMTTYPE=image/jpeg:https://trynwalderein.nl/wp-content/uploads/2025/11/klaverjas.jpg
ORGANIZER;CN="noflikdwaande":MAILTO:info@noflikdwaande.nl
END:VEVENT
BEGIN:VEVENT
DTSTART;TZID=Europe/Amsterdam:20260813T150000
DTEND;TZID=Europe/Amsterdam:20260813T170000
DTSTAMP:20260424T192607
CREATED:20251110T102902Z
LAST-MODIFIED:20251111T114429Z
UID:10000301-1786633200-1786640400@trynwalderein.nl
SUMMARY:Koffiemiddag De Bân/Dbieb Gytsjerk
DESCRIPTION:Gezellig samenzijn met iedere donderdagmiddag een activiteit: spelletje\, discussie met behulp van vragen\, muziek\, zang en dergelijke.
URL:https://trynwalderein.nl/event/koffiemiddag-de-ban-dbieb-gytsjerk/2026-08-13/
LOCATION:Dorpshuis De Bân in bibliotheek Dbieb\, Simke Kloostermanstrjitte 6\, Gytsjerk\, Friesland\, 9061 BE\, Netherlands
ATTACH;FMTTYPE=image/jpeg:https://trynwalderein.nl/wp-content/uploads/2025/11/koffiemoment.jpg
ORGANIZER;CN="De B%C3%A2n/Dbieb Gytsjerk":MAILTO:ninibrink37@gmail.com
END:VEVENT
BEGIN:VEVENT
DTSTART;TZID=UTC:20260814T150000
DTEND;TZID=UTC:20260814T163000
DTSTAMP:20260424T192607
CREATED:20251112T155051Z
LAST-MODIFIED:20251112T155051Z
UID:10001609-1786719600-1786725000@trynwalderein.nl
SUMMARY:Digi-inloop
DESCRIPTION:deskundige hulp en advies bij problemen met computer\, smartphone of tablet.
URL:https://trynwalderein.nl/event/digi-inloop/2026-08-14/
LOCATION:Dorpshuis De Bân in bibliotheek Dbieb\, Simke Kloostermanstrjitte 6\, Gytsjerk\, Friesland\, 9061 BE\, Netherlands
ATTACH;FMTTYPE=image/jpeg:https://trynwalderein.nl/wp-content/uploads/2025/11/digiinloop.jpg
ORGANIZER;CN="De B%C3%A2n/Dbieb Gytsjerk":MAILTO:ninibrink37@gmail.com
END:VEVENT
BEGIN:VEVENT
DTSTART;TZID=UTC:20260817T093000
DTEND;TZID=UTC:20260817T113000
DTSTAMP:20260424T192607
CREATED:20251112T125506Z
LAST-MODIFIED:20251112T125506Z
UID:10000825-1786959000-1786966200@trynwalderein.nl
SUMMARY:Ontmoetingsplek Noflik Dwaande
DESCRIPTION:Voor alle inwoners in de Trynwâlden\, die gezellig samen willen zijn\, actief willen blijven of gezellig even willen praten.\nOp maandag: creatieve vaardigheid en op woensdag: handwerk
URL:https://trynwalderein.nl/event/ontmoetingsplek-noflik-dwaande/2026-08-17/
LOCATION:Frisiastate 24\, Frisiastate 24\, Oentsjerk\, Friesland\, Netherlands
ATTACH;FMTTYPE=image/jpeg:https://trynwalderein.nl/wp-content/uploads/2025/11/creatief.jpg
ORGANIZER;CN="Noflyk Wenje":MAILTO:info@noflikdwaande.nl
END:VEVENT
BEGIN:VEVENT
DTSTART;TZID=UTC:20260818T193000
DTEND;TZID=UTC:20260818T203000
DTSTAMP:20260424T192607
CREATED:20251112T154415Z
LAST-MODIFIED:20251112T154415Z
UID:10001348-1787081400-1787085000@trynwalderein.nl
SUMMARY:Yin Yoga
DESCRIPTION:een gezonde manier van bewegen die aansluit bij jouw lichaam. Het is een langzame vorm van yoga voor rustige houdingen die langere tijd worden vastgehouden. Toegankelijk voor iedereen uit Trynwȃlden.\nIedere dinsdag van 19.30 tot 20.30 uur + van 20.45 tot 21.45 uur.\nIedere donderdag van 19.00 tot 20.00 uur + van 20.15 tot 21.15 uur.\nBelangstelling\, vragen en/of aanmelden: via WhatsApp of via email.
URL:https://trynwalderein.nl/event/yin-yoga/2026-08-18/
LOCATION:Frisiastate 24\, Frisiastate 23\, Oentsjerk\, Friesland\, Netherlands
ATTACH;FMTTYPE=image/jpeg:https://trynwalderein.nl/wp-content/uploads/2025/11/yinyan.jpg
ORGANIZER;CN="lavendelwellness.nl":MAILTO:welkom@lavendelwellness.nl
END:VEVENT
BEGIN:VEVENT
DTSTART;TZID=UTC:20260819T100000
DTEND;TZID=UTC:20260819T120000
DTSTAMP:20260424T192607
CREATED:20251111T120706Z
LAST-MODIFIED:20251111T120706Z
UID:10000564-1787133600-1787140800@trynwalderein.nl
SUMMARY:Inloop-koffie-ochtend Gytsjerk 'Sa Leuk Hûs'
DESCRIPTION:Iedere woensdag van 10.00 tot 12.00 uur \nVoor ouderen uit de omgeving\, gezamenlijk koffiedrinken en een gezellig praatje
URL:https://trynwalderein.nl/event/inloop-koffie-ochtend-gytsjerk-sa-leuk-hus/2026-08-19/
LOCATION:Canterlandseweg 1\, Gytsjerk\, Canterlandseweg 1\, Gytsjerk\, Friesland\, Netherlands
ATTACH;FMTTYPE=image/jpeg:https://trynwalderein.nl/wp-content/uploads/2025/11/ouderkoffie.jpg
ORGANIZER;CN="Sa Leuk H%C3%BBs":MAILTO:info@saleukhus.nl
END:VEVENT
BEGIN:VEVENT
DTSTART;TZID=UTC:20260819T133000
DTEND;TZID=UTC:20260819T163000
DTSTAMP:20260424T192607
CREATED:20251112T133654Z
LAST-MODIFIED:20251112T133654Z
UID:10001087-1787146200-1787157000@trynwalderein.nl
SUMMARY:Klaverjasgroep
DESCRIPTION:Kom ook klaverjassen in Heemstra State.
URL:https://trynwalderein.nl/event/klaverjasgroep/2026-08-19/
LOCATION:Heemstra State\, Frisiastate 23\, Oentsjerk\, Friesland\, Netherlands
ATTACH;FMTTYPE=image/jpeg:https://trynwalderein.nl/wp-content/uploads/2025/11/klaverjas.jpg
ORGANIZER;CN="noflikdwaande":MAILTO:info@noflikdwaande.nl
END:VEVENT
BEGIN:VEVENT
DTSTART;TZID=Europe/Amsterdam:20260820T150000
DTEND;TZID=Europe/Amsterdam:20260820T170000
DTSTAMP:20260424T192607
CREATED:20251110T102902Z
LAST-MODIFIED:20251111T114429Z
UID:10000302-1787238000-1787245200@trynwalderein.nl
SUMMARY:Koffiemiddag De Bân/Dbieb Gytsjerk
DESCRIPTION:Gezellig samenzijn met iedere donderdagmiddag een activiteit: spelletje\, discussie met behulp van vragen\, muziek\, zang en dergelijke.
URL:https://trynwalderein.nl/event/koffiemiddag-de-ban-dbieb-gytsjerk/2026-08-20/
LOCATION:Dorpshuis De Bân in bibliotheek Dbieb\, Simke Kloostermanstrjitte 6\, Gytsjerk\, Friesland\, 9061 BE\, Netherlands
ATTACH;FMTTYPE=image/jpeg:https://trynwalderein.nl/wp-content/uploads/2025/11/koffiemoment.jpg
ORGANIZER;CN="De B%C3%A2n/Dbieb Gytsjerk":MAILTO:ninibrink37@gmail.com
END:VEVENT
BEGIN:VEVENT
DTSTART;TZID=UTC:20260821T150000
DTEND;TZID=UTC:20260821T163000
DTSTAMP:20260424T192607
CREATED:20251112T155051Z
LAST-MODIFIED:20251112T155051Z
UID:10001610-1787324400-1787329800@trynwalderein.nl
SUMMARY:Digi-inloop
DESCRIPTION:deskundige hulp en advies bij problemen met computer\, smartphone of tablet.
URL:https://trynwalderein.nl/event/digi-inloop/2026-08-21/
LOCATION:Dorpshuis De Bân in bibliotheek Dbieb\, Simke Kloostermanstrjitte 6\, Gytsjerk\, Friesland\, 9061 BE\, Netherlands
ATTACH;FMTTYPE=image/jpeg:https://trynwalderein.nl/wp-content/uploads/2025/11/digiinloop.jpg
ORGANIZER;CN="De B%C3%A2n/Dbieb Gytsjerk":MAILTO:ninibrink37@gmail.com
END:VEVENT
BEGIN:VEVENT
DTSTART;TZID=UTC:20260824T093000
DTEND;TZID=UTC:20260824T113000
DTSTAMP:20260424T192607
CREATED:20251112T125506Z
LAST-MODIFIED:20251112T125506Z
UID:10000826-1787563800-1787571000@trynwalderein.nl
SUMMARY:Ontmoetingsplek Noflik Dwaande
DESCRIPTION:Voor alle inwoners in de Trynwâlden\, die gezellig samen willen zijn\, actief willen blijven of gezellig even willen praten.\nOp maandag: creatieve vaardigheid en op woensdag: handwerk
URL:https://trynwalderein.nl/event/ontmoetingsplek-noflik-dwaande/2026-08-24/
LOCATION:Frisiastate 24\, Frisiastate 24\, Oentsjerk\, Friesland\, Netherlands
ATTACH;FMTTYPE=image/jpeg:https://trynwalderein.nl/wp-content/uploads/2025/11/creatief.jpg
ORGANIZER;CN="Noflyk Wenje":MAILTO:info@noflikdwaande.nl
END:VEVENT
BEGIN:VEVENT
DTSTART;TZID=UTC:20260825T193000
DTEND;TZID=UTC:20260825T203000
DTSTAMP:20260424T192607
CREATED:20251112T154415Z
LAST-MODIFIED:20251112T154415Z
UID:10001349-1787686200-1787689800@trynwalderein.nl
SUMMARY:Yin Yoga
DESCRIPTION:een gezonde manier van bewegen die aansluit bij jouw lichaam. Het is een langzame vorm van yoga voor rustige houdingen die langere tijd worden vastgehouden. Toegankelijk voor iedereen uit Trynwȃlden.\nIedere dinsdag van 19.30 tot 20.30 uur + van 20.45 tot 21.45 uur.\nIedere donderdag van 19.00 tot 20.00 uur + van 20.15 tot 21.15 uur.\nBelangstelling\, vragen en/of aanmelden: via WhatsApp of via email.
URL:https://trynwalderein.nl/event/yin-yoga/2026-08-25/
LOCATION:Frisiastate 24\, Frisiastate 23\, Oentsjerk\, Friesland\, Netherlands
ATTACH;FMTTYPE=image/jpeg:https://trynwalderein.nl/wp-content/uploads/2025/11/yinyan.jpg
ORGANIZER;CN="lavendelwellness.nl":MAILTO:welkom@lavendelwellness.nl
END:VEVENT
BEGIN:VEVENT
DTSTART;TZID=UTC:20260826T100000
DTEND;TZID=UTC:20260826T120000
DTSTAMP:20260424T192607
CREATED:20251111T120706Z
LAST-MODIFIED:20251111T120706Z
UID:10000565-1787738400-1787745600@trynwalderein.nl
SUMMARY:Inloop-koffie-ochtend Gytsjerk 'Sa Leuk Hûs'
DESCRIPTION:Iedere woensdag van 10.00 tot 12.00 uur \nVoor ouderen uit de omgeving\, gezamenlijk koffiedrinken en een gezellig praatje
URL:https://trynwalderein.nl/event/inloop-koffie-ochtend-gytsjerk-sa-leuk-hus/2026-08-26/
LOCATION:Canterlandseweg 1\, Gytsjerk\, Canterlandseweg 1\, Gytsjerk\, Friesland\, Netherlands
ATTACH;FMTTYPE=image/jpeg:https://trynwalderein.nl/wp-content/uploads/2025/11/ouderkoffie.jpg
ORGANIZER;CN="Sa Leuk H%C3%BBs":MAILTO:info@saleukhus.nl
END:VEVENT
BEGIN:VEVENT
DTSTART;TZID=UTC:20260826T133000
DTEND;TZID=UTC:20260826T163000
DTSTAMP:20260424T192607
CREATED:20251112T133654Z
LAST-MODIFIED:20251112T133654Z
UID:10001088-1787751000-1787761800@trynwalderein.nl
SUMMARY:Klaverjasgroep
DESCRIPTION:Kom ook klaverjassen in Heemstra State.
URL:https://trynwalderein.nl/event/klaverjasgroep/2026-08-26/
LOCATION:Heemstra State\, Frisiastate 23\, Oentsjerk\, Friesland\, Netherlands
ATTACH;FMTTYPE=image/jpeg:https://trynwalderein.nl/wp-content/uploads/2025/11/klaverjas.jpg
ORGANIZER;CN="noflikdwaande":MAILTO:info@noflikdwaande.nl
END:VEVENT
BEGIN:VEVENT
DTSTART;TZID=Europe/Amsterdam:20260827T150000
DTEND;TZID=Europe/Amsterdam:20260827T170000
DTSTAMP:20260424T192607
CREATED:20251110T102902Z
LAST-MODIFIED:20251111T114429Z
UID:10000303-1787842800-1787850000@trynwalderein.nl
SUMMARY:Koffiemiddag De Bân/Dbieb Gytsjerk
DESCRIPTION:Gezellig samenzijn met iedere donderdagmiddag een activiteit: spelletje\, discussie met behulp van vragen\, muziek\, zang en dergelijke.
URL:https://trynwalderein.nl/event/koffiemiddag-de-ban-dbieb-gytsjerk/2026-08-27/
LOCATION:Dorpshuis De Bân in bibliotheek Dbieb\, Simke Kloostermanstrjitte 6\, Gytsjerk\, Friesland\, 9061 BE\, Netherlands
ATTACH;FMTTYPE=image/jpeg:https://trynwalderein.nl/wp-content/uploads/2025/11/koffiemoment.jpg
ORGANIZER;CN="De B%C3%A2n/Dbieb Gytsjerk":MAILTO:ninibrink37@gmail.com
END:VEVENT
BEGIN:VEVENT
DTSTART;TZID=UTC:20260828T150000
DTEND;TZID=UTC:20260828T163000
DTSTAMP:20260424T192607
CREATED:20251112T155051Z
LAST-MODIFIED:20251112T155051Z
UID:10001611-1787929200-1787934600@trynwalderein.nl
SUMMARY:Digi-inloop
DESCRIPTION:deskundige hulp en advies bij problemen met computer\, smartphone of tablet.
URL:https://trynwalderein.nl/event/digi-inloop/2026-08-28/
LOCATION:Dorpshuis De Bân in bibliotheek Dbieb\, Simke Kloostermanstrjitte 6\, Gytsjerk\, Friesland\, 9061 BE\, Netherlands
ATTACH;FMTTYPE=image/jpeg:https://trynwalderein.nl/wp-content/uploads/2025/11/digiinloop.jpg
ORGANIZER;CN="De B%C3%A2n/Dbieb Gytsjerk":MAILTO:ninibrink37@gmail.com
END:VEVENT
END:VCALENDAR