BEGIN:VCALENDAR
VERSION:2.0
PRODID:-//Trynwâlderein - ECPv6.15.11//NONSGML v1.0//EN
CALSCALE:GREGORIAN
METHOD:PUBLISH
X-ORIGINAL-URL:https://trynwalderein.nl
X-WR-CALDESC:Evenementen voor Trynwâlderein
REFRESH-INTERVAL;VALUE=DURATION:PT1H
X-Robots-Tag:noindex
X-PUBLISHED-TTL:PT1H
BEGIN:VTIMEZONE
TZID:Europe/Amsterdam
BEGIN:DAYLIGHT
TZOFFSETFROM:+0100
TZOFFSETTO:+0200
TZNAME:CEST
DTSTART:20250330T010000
END:DAYLIGHT
BEGIN:STANDARD
TZOFFSETFROM:+0200
TZOFFSETTO:+0100
TZNAME:CET
DTSTART:20251026T010000
END:STANDARD
BEGIN:DAYLIGHT
TZOFFSETFROM:+0100
TZOFFSETTO:+0200
TZNAME:CEST
DTSTART:20260329T010000
END:DAYLIGHT
BEGIN:STANDARD
TZOFFSETFROM:+0200
TZOFFSETTO:+0100
TZNAME:CET
DTSTART:20261025T010000
END:STANDARD
BEGIN:DAYLIGHT
TZOFFSETFROM:+0100
TZOFFSETTO:+0200
TZNAME:CEST
DTSTART:20270328T010000
END:DAYLIGHT
BEGIN:STANDARD
TZOFFSETFROM:+0200
TZOFFSETTO:+0100
TZNAME:CET
DTSTART:20271031T010000
END:STANDARD
END:VTIMEZONE
BEGIN:VTIMEZONE
TZID:UTC
BEGIN:STANDARD
TZOFFSETFROM:+0000
TZOFFSETTO:+0000
TZNAME:UTC
DTSTART:20250101T000000
END:STANDARD
END:VTIMEZONE
BEGIN:VEVENT
DTSTART;TZID=Europe/Amsterdam:20260528T150000
DTEND;TZID=Europe/Amsterdam:20260528T170000
DTSTAMP:20260424T164314
CREATED:20251110T102902Z
LAST-MODIFIED:20251111T114429Z
UID:10000290-1779980400-1779987600@trynwalderein.nl
SUMMARY:Koffiemiddag De Bân/Dbieb Gytsjerk
DESCRIPTION:Gezellig samenzijn met iedere donderdagmiddag een activiteit: spelletje\, discussie met behulp van vragen\, muziek\, zang en dergelijke.
URL:https://trynwalderein.nl/event/koffiemiddag-de-ban-dbieb-gytsjerk/2026-05-28/
LOCATION:Dorpshuis De Bân in bibliotheek Dbieb\, Simke Kloostermanstrjitte 6\, Gytsjerk\, Friesland\, 9061 BE\, Netherlands
ATTACH;FMTTYPE=image/jpeg:https://trynwalderein.nl/wp-content/uploads/2025/11/koffiemoment.jpg
ORGANIZER;CN="De B%C3%A2n/Dbieb Gytsjerk":MAILTO:ninibrink37@gmail.com
END:VEVENT
BEGIN:VEVENT
DTSTART;TZID=UTC:20260529T150000
DTEND;TZID=UTC:20260529T163000
DTSTAMP:20260424T164314
CREATED:20251112T155051Z
LAST-MODIFIED:20251112T155051Z
UID:10001598-1780066800-1780072200@trynwalderein.nl
SUMMARY:Digi-inloop
DESCRIPTION:deskundige hulp en advies bij problemen met computer\, smartphone of tablet.
URL:https://trynwalderein.nl/event/digi-inloop/2026-05-29/
LOCATION:Dorpshuis De Bân in bibliotheek Dbieb\, Simke Kloostermanstrjitte 6\, Gytsjerk\, Friesland\, 9061 BE\, Netherlands
ATTACH;FMTTYPE=image/jpeg:https://trynwalderein.nl/wp-content/uploads/2025/11/digiinloop.jpg
ORGANIZER;CN="De B%C3%A2n/Dbieb Gytsjerk":MAILTO:ninibrink37@gmail.com
END:VEVENT
BEGIN:VEVENT
DTSTART;TZID=UTC:20260601T093000
DTEND;TZID=UTC:20260601T113000
DTSTAMP:20260424T164314
CREATED:20251112T125506Z
LAST-MODIFIED:20251112T125506Z
UID:10000814-1780306200-1780313400@trynwalderein.nl
SUMMARY:Ontmoetingsplek Noflik Dwaande
DESCRIPTION:Voor alle inwoners in de Trynwâlden\, die gezellig samen willen zijn\, actief willen blijven of gezellig even willen praten.\nOp maandag: creatieve vaardigheid en op woensdag: handwerk
URL:https://trynwalderein.nl/event/ontmoetingsplek-noflik-dwaande/2026-06-01/
LOCATION:Frisiastate 24\, Frisiastate 24\, Oentsjerk\, Friesland\, Netherlands
ATTACH;FMTTYPE=image/jpeg:https://trynwalderein.nl/wp-content/uploads/2025/11/creatief.jpg
ORGANIZER;CN="Noflyk Wenje":MAILTO:info@noflikdwaande.nl
END:VEVENT
BEGIN:VEVENT
DTSTART;TZID=UTC:20260602T193000
DTEND;TZID=UTC:20260602T203000
DTSTAMP:20260424T164314
CREATED:20251112T154415Z
LAST-MODIFIED:20251112T154415Z
UID:10001337-1780428600-1780432200@trynwalderein.nl
SUMMARY:Yin Yoga
DESCRIPTION:een gezonde manier van bewegen die aansluit bij jouw lichaam. Het is een langzame vorm van yoga voor rustige houdingen die langere tijd worden vastgehouden. Toegankelijk voor iedereen uit Trynwȃlden.\nIedere dinsdag van 19.30 tot 20.30 uur + van 20.45 tot 21.45 uur.\nIedere donderdag van 19.00 tot 20.00 uur + van 20.15 tot 21.15 uur.\nBelangstelling\, vragen en/of aanmelden: via WhatsApp of via email.
URL:https://trynwalderein.nl/event/yin-yoga/2026-06-02/
LOCATION:Frisiastate 24\, Frisiastate 23\, Oentsjerk\, Friesland\, Netherlands
ATTACH;FMTTYPE=image/jpeg:https://trynwalderein.nl/wp-content/uploads/2025/11/yinyan.jpg
ORGANIZER;CN="lavendelwellness.nl":MAILTO:welkom@lavendelwellness.nl
END:VEVENT
BEGIN:VEVENT
DTSTART;TZID=UTC:20260603T100000
DTEND;TZID=UTC:20260603T120000
DTSTAMP:20260424T164314
CREATED:20251111T120706Z
LAST-MODIFIED:20251111T120706Z
UID:10000553-1780480800-1780488000@trynwalderein.nl
SUMMARY:Inloop-koffie-ochtend Gytsjerk 'Sa Leuk Hûs'
DESCRIPTION:Iedere woensdag van 10.00 tot 12.00 uur \nVoor ouderen uit de omgeving\, gezamenlijk koffiedrinken en een gezellig praatje
URL:https://trynwalderein.nl/event/inloop-koffie-ochtend-gytsjerk-sa-leuk-hus/2026-06-03/
LOCATION:Canterlandseweg 1\, Gytsjerk\, Canterlandseweg 1\, Gytsjerk\, Friesland\, Netherlands
ATTACH;FMTTYPE=image/jpeg:https://trynwalderein.nl/wp-content/uploads/2025/11/ouderkoffie.jpg
ORGANIZER;CN="Sa Leuk H%C3%BBs":MAILTO:info@saleukhus.nl
END:VEVENT
BEGIN:VEVENT
DTSTART;TZID=UTC:20260603T133000
DTEND;TZID=UTC:20260603T163000
DTSTAMP:20260424T164314
CREATED:20251112T133654Z
LAST-MODIFIED:20251112T133654Z
UID:10001076-1780493400-1780504200@trynwalderein.nl
SUMMARY:Klaverjasgroep
DESCRIPTION:Kom ook klaverjassen in Heemstra State.
URL:https://trynwalderein.nl/event/klaverjasgroep/2026-06-03/
LOCATION:Heemstra State\, Frisiastate 23\, Oentsjerk\, Friesland\, Netherlands
ATTACH;FMTTYPE=image/jpeg:https://trynwalderein.nl/wp-content/uploads/2025/11/klaverjas.jpg
ORGANIZER;CN="noflikdwaande":MAILTO:info@noflikdwaande.nl
END:VEVENT
BEGIN:VEVENT
DTSTART;TZID=Europe/Amsterdam:20260604T150000
DTEND;TZID=Europe/Amsterdam:20260604T170000
DTSTAMP:20260424T164314
CREATED:20251110T102902Z
LAST-MODIFIED:20251111T114429Z
UID:10000291-1780585200-1780592400@trynwalderein.nl
SUMMARY:Koffiemiddag De Bân/Dbieb Gytsjerk
DESCRIPTION:Gezellig samenzijn met iedere donderdagmiddag een activiteit: spelletje\, discussie met behulp van vragen\, muziek\, zang en dergelijke.
URL:https://trynwalderein.nl/event/koffiemiddag-de-ban-dbieb-gytsjerk/2026-06-04/
LOCATION:Dorpshuis De Bân in bibliotheek Dbieb\, Simke Kloostermanstrjitte 6\, Gytsjerk\, Friesland\, 9061 BE\, Netherlands
ATTACH;FMTTYPE=image/jpeg:https://trynwalderein.nl/wp-content/uploads/2025/11/koffiemoment.jpg
ORGANIZER;CN="De B%C3%A2n/Dbieb Gytsjerk":MAILTO:ninibrink37@gmail.com
END:VEVENT
BEGIN:VEVENT
DTSTART;TZID=UTC:20260605T150000
DTEND;TZID=UTC:20260605T163000
DTSTAMP:20260424T164314
CREATED:20251112T155051Z
LAST-MODIFIED:20251112T155051Z
UID:10001599-1780671600-1780677000@trynwalderein.nl
SUMMARY:Digi-inloop
DESCRIPTION:deskundige hulp en advies bij problemen met computer\, smartphone of tablet.
URL:https://trynwalderein.nl/event/digi-inloop/2026-06-05/
LOCATION:Dorpshuis De Bân in bibliotheek Dbieb\, Simke Kloostermanstrjitte 6\, Gytsjerk\, Friesland\, 9061 BE\, Netherlands
ATTACH;FMTTYPE=image/jpeg:https://trynwalderein.nl/wp-content/uploads/2025/11/digiinloop.jpg
ORGANIZER;CN="De B%C3%A2n/Dbieb Gytsjerk":MAILTO:ninibrink37@gmail.com
END:VEVENT
BEGIN:VEVENT
DTSTART;TZID=UTC:20260608T093000
DTEND;TZID=UTC:20260608T113000
DTSTAMP:20260424T164314
CREATED:20251112T125506Z
LAST-MODIFIED:20251112T125506Z
UID:10000815-1780911000-1780918200@trynwalderein.nl
SUMMARY:Ontmoetingsplek Noflik Dwaande
DESCRIPTION:Voor alle inwoners in de Trynwâlden\, die gezellig samen willen zijn\, actief willen blijven of gezellig even willen praten.\nOp maandag: creatieve vaardigheid en op woensdag: handwerk
URL:https://trynwalderein.nl/event/ontmoetingsplek-noflik-dwaande/2026-06-08/
LOCATION:Frisiastate 24\, Frisiastate 24\, Oentsjerk\, Friesland\, Netherlands
ATTACH;FMTTYPE=image/jpeg:https://trynwalderein.nl/wp-content/uploads/2025/11/creatief.jpg
ORGANIZER;CN="Noflyk Wenje":MAILTO:info@noflikdwaande.nl
END:VEVENT
BEGIN:VEVENT
DTSTART;TZID=UTC:20260609T193000
DTEND;TZID=UTC:20260609T203000
DTSTAMP:20260424T164314
CREATED:20251112T154415Z
LAST-MODIFIED:20251112T154415Z
UID:10001338-1781033400-1781037000@trynwalderein.nl
SUMMARY:Yin Yoga
DESCRIPTION:een gezonde manier van bewegen die aansluit bij jouw lichaam. Het is een langzame vorm van yoga voor rustige houdingen die langere tijd worden vastgehouden. Toegankelijk voor iedereen uit Trynwȃlden.\nIedere dinsdag van 19.30 tot 20.30 uur + van 20.45 tot 21.45 uur.\nIedere donderdag van 19.00 tot 20.00 uur + van 20.15 tot 21.15 uur.\nBelangstelling\, vragen en/of aanmelden: via WhatsApp of via email.
URL:https://trynwalderein.nl/event/yin-yoga/2026-06-09/
LOCATION:Frisiastate 24\, Frisiastate 23\, Oentsjerk\, Friesland\, Netherlands
ATTACH;FMTTYPE=image/jpeg:https://trynwalderein.nl/wp-content/uploads/2025/11/yinyan.jpg
ORGANIZER;CN="lavendelwellness.nl":MAILTO:welkom@lavendelwellness.nl
END:VEVENT
BEGIN:VEVENT
DTSTART;TZID=UTC:20260610T100000
DTEND;TZID=UTC:20260610T120000
DTSTAMP:20260424T164314
CREATED:20251111T120706Z
LAST-MODIFIED:20251111T120706Z
UID:10000554-1781085600-1781092800@trynwalderein.nl
SUMMARY:Inloop-koffie-ochtend Gytsjerk 'Sa Leuk Hûs'
DESCRIPTION:Iedere woensdag van 10.00 tot 12.00 uur \nVoor ouderen uit de omgeving\, gezamenlijk koffiedrinken en een gezellig praatje
URL:https://trynwalderein.nl/event/inloop-koffie-ochtend-gytsjerk-sa-leuk-hus/2026-06-10/
LOCATION:Canterlandseweg 1\, Gytsjerk\, Canterlandseweg 1\, Gytsjerk\, Friesland\, Netherlands
ATTACH;FMTTYPE=image/jpeg:https://trynwalderein.nl/wp-content/uploads/2025/11/ouderkoffie.jpg
ORGANIZER;CN="Sa Leuk H%C3%BBs":MAILTO:info@saleukhus.nl
END:VEVENT
BEGIN:VEVENT
DTSTART;TZID=UTC:20260610T133000
DTEND;TZID=UTC:20260610T163000
DTSTAMP:20260424T164314
CREATED:20251112T133654Z
LAST-MODIFIED:20251112T133654Z
UID:10001077-1781098200-1781109000@trynwalderein.nl
SUMMARY:Klaverjasgroep
DESCRIPTION:Kom ook klaverjassen in Heemstra State.
URL:https://trynwalderein.nl/event/klaverjasgroep/2026-06-10/
LOCATION:Heemstra State\, Frisiastate 23\, Oentsjerk\, Friesland\, Netherlands
ATTACH;FMTTYPE=image/jpeg:https://trynwalderein.nl/wp-content/uploads/2025/11/klaverjas.jpg
ORGANIZER;CN="noflikdwaande":MAILTO:info@noflikdwaande.nl
END:VEVENT
BEGIN:VEVENT
DTSTART;TZID=Europe/Amsterdam:20260611T150000
DTEND;TZID=Europe/Amsterdam:20260611T170000
DTSTAMP:20260424T164314
CREATED:20251110T102902Z
LAST-MODIFIED:20251111T114429Z
UID:10000292-1781190000-1781197200@trynwalderein.nl
SUMMARY:Koffiemiddag De Bân/Dbieb Gytsjerk
DESCRIPTION:Gezellig samenzijn met iedere donderdagmiddag een activiteit: spelletje\, discussie met behulp van vragen\, muziek\, zang en dergelijke.
URL:https://trynwalderein.nl/event/koffiemiddag-de-ban-dbieb-gytsjerk/2026-06-11/
LOCATION:Dorpshuis De Bân in bibliotheek Dbieb\, Simke Kloostermanstrjitte 6\, Gytsjerk\, Friesland\, 9061 BE\, Netherlands
ATTACH;FMTTYPE=image/jpeg:https://trynwalderein.nl/wp-content/uploads/2025/11/koffiemoment.jpg
ORGANIZER;CN="De B%C3%A2n/Dbieb Gytsjerk":MAILTO:ninibrink37@gmail.com
END:VEVENT
BEGIN:VEVENT
DTSTART;TZID=UTC:20260612T150000
DTEND;TZID=UTC:20260612T163000
DTSTAMP:20260424T164314
CREATED:20251112T155051Z
LAST-MODIFIED:20251112T155051Z
UID:10001600-1781276400-1781281800@trynwalderein.nl
SUMMARY:Digi-inloop
DESCRIPTION:deskundige hulp en advies bij problemen met computer\, smartphone of tablet.
URL:https://trynwalderein.nl/event/digi-inloop/2026-06-12/
LOCATION:Dorpshuis De Bân in bibliotheek Dbieb\, Simke Kloostermanstrjitte 6\, Gytsjerk\, Friesland\, 9061 BE\, Netherlands
ATTACH;FMTTYPE=image/jpeg:https://trynwalderein.nl/wp-content/uploads/2025/11/digiinloop.jpg
ORGANIZER;CN="De B%C3%A2n/Dbieb Gytsjerk":MAILTO:ninibrink37@gmail.com
END:VEVENT
BEGIN:VEVENT
DTSTART;TZID=UTC:20260615T093000
DTEND;TZID=UTC:20260615T113000
DTSTAMP:20260424T164314
CREATED:20251112T125506Z
LAST-MODIFIED:20251112T125506Z
UID:10000816-1781515800-1781523000@trynwalderein.nl
SUMMARY:Ontmoetingsplek Noflik Dwaande
DESCRIPTION:Voor alle inwoners in de Trynwâlden\, die gezellig samen willen zijn\, actief willen blijven of gezellig even willen praten.\nOp maandag: creatieve vaardigheid en op woensdag: handwerk
URL:https://trynwalderein.nl/event/ontmoetingsplek-noflik-dwaande/2026-06-15/
LOCATION:Frisiastate 24\, Frisiastate 24\, Oentsjerk\, Friesland\, Netherlands
ATTACH;FMTTYPE=image/jpeg:https://trynwalderein.nl/wp-content/uploads/2025/11/creatief.jpg
ORGANIZER;CN="Noflyk Wenje":MAILTO:info@noflikdwaande.nl
END:VEVENT
BEGIN:VEVENT
DTSTART;TZID=UTC:20260616T193000
DTEND;TZID=UTC:20260616T203000
DTSTAMP:20260424T164314
CREATED:20251112T154415Z
LAST-MODIFIED:20251112T154415Z
UID:10001339-1781638200-1781641800@trynwalderein.nl
SUMMARY:Yin Yoga
DESCRIPTION:een gezonde manier van bewegen die aansluit bij jouw lichaam. Het is een langzame vorm van yoga voor rustige houdingen die langere tijd worden vastgehouden. Toegankelijk voor iedereen uit Trynwȃlden.\nIedere dinsdag van 19.30 tot 20.30 uur + van 20.45 tot 21.45 uur.\nIedere donderdag van 19.00 tot 20.00 uur + van 20.15 tot 21.15 uur.\nBelangstelling\, vragen en/of aanmelden: via WhatsApp of via email.
URL:https://trynwalderein.nl/event/yin-yoga/2026-06-16/
LOCATION:Frisiastate 24\, Frisiastate 23\, Oentsjerk\, Friesland\, Netherlands
ATTACH;FMTTYPE=image/jpeg:https://trynwalderein.nl/wp-content/uploads/2025/11/yinyan.jpg
ORGANIZER;CN="lavendelwellness.nl":MAILTO:welkom@lavendelwellness.nl
END:VEVENT
BEGIN:VEVENT
DTSTART;TZID=UTC:20260617T100000
DTEND;TZID=UTC:20260617T120000
DTSTAMP:20260424T164314
CREATED:20251111T120706Z
LAST-MODIFIED:20251111T120706Z
UID:10000555-1781690400-1781697600@trynwalderein.nl
SUMMARY:Inloop-koffie-ochtend Gytsjerk 'Sa Leuk Hûs'
DESCRIPTION:Iedere woensdag van 10.00 tot 12.00 uur \nVoor ouderen uit de omgeving\, gezamenlijk koffiedrinken en een gezellig praatje
URL:https://trynwalderein.nl/event/inloop-koffie-ochtend-gytsjerk-sa-leuk-hus/2026-06-17/
LOCATION:Canterlandseweg 1\, Gytsjerk\, Canterlandseweg 1\, Gytsjerk\, Friesland\, Netherlands
ATTACH;FMTTYPE=image/jpeg:https://trynwalderein.nl/wp-content/uploads/2025/11/ouderkoffie.jpg
ORGANIZER;CN="Sa Leuk H%C3%BBs":MAILTO:info@saleukhus.nl
END:VEVENT
BEGIN:VEVENT
DTSTART;TZID=UTC:20260617T133000
DTEND;TZID=UTC:20260617T163000
DTSTAMP:20260424T164314
CREATED:20251112T133654Z
LAST-MODIFIED:20251112T133654Z
UID:10001078-1781703000-1781713800@trynwalderein.nl
SUMMARY:Klaverjasgroep
DESCRIPTION:Kom ook klaverjassen in Heemstra State.
URL:https://trynwalderein.nl/event/klaverjasgroep/2026-06-17/
LOCATION:Heemstra State\, Frisiastate 23\, Oentsjerk\, Friesland\, Netherlands
ATTACH;FMTTYPE=image/jpeg:https://trynwalderein.nl/wp-content/uploads/2025/11/klaverjas.jpg
ORGANIZER;CN="noflikdwaande":MAILTO:info@noflikdwaande.nl
END:VEVENT
BEGIN:VEVENT
DTSTART;TZID=Europe/Amsterdam:20260618T150000
DTEND;TZID=Europe/Amsterdam:20260618T170000
DTSTAMP:20260424T164314
CREATED:20251110T102902Z
LAST-MODIFIED:20251111T114429Z
UID:10000293-1781794800-1781802000@trynwalderein.nl
SUMMARY:Koffiemiddag De Bân/Dbieb Gytsjerk
DESCRIPTION:Gezellig samenzijn met iedere donderdagmiddag een activiteit: spelletje\, discussie met behulp van vragen\, muziek\, zang en dergelijke.
URL:https://trynwalderein.nl/event/koffiemiddag-de-ban-dbieb-gytsjerk/2026-06-18/
LOCATION:Dorpshuis De Bân in bibliotheek Dbieb\, Simke Kloostermanstrjitte 6\, Gytsjerk\, Friesland\, 9061 BE\, Netherlands
ATTACH;FMTTYPE=image/jpeg:https://trynwalderein.nl/wp-content/uploads/2025/11/koffiemoment.jpg
ORGANIZER;CN="De B%C3%A2n/Dbieb Gytsjerk":MAILTO:ninibrink37@gmail.com
END:VEVENT
BEGIN:VEVENT
DTSTART;TZID=UTC:20260619T150000
DTEND;TZID=UTC:20260619T163000
DTSTAMP:20260424T164314
CREATED:20251112T155051Z
LAST-MODIFIED:20251112T155051Z
UID:10001601-1781881200-1781886600@trynwalderein.nl
SUMMARY:Digi-inloop
DESCRIPTION:deskundige hulp en advies bij problemen met computer\, smartphone of tablet.
URL:https://trynwalderein.nl/event/digi-inloop/2026-06-19/
LOCATION:Dorpshuis De Bân in bibliotheek Dbieb\, Simke Kloostermanstrjitte 6\, Gytsjerk\, Friesland\, 9061 BE\, Netherlands
ATTACH;FMTTYPE=image/jpeg:https://trynwalderein.nl/wp-content/uploads/2025/11/digiinloop.jpg
ORGANIZER;CN="De B%C3%A2n/Dbieb Gytsjerk":MAILTO:ninibrink37@gmail.com
END:VEVENT
BEGIN:VEVENT
DTSTART;TZID=UTC:20260622T093000
DTEND;TZID=UTC:20260622T113000
DTSTAMP:20260424T164314
CREATED:20251112T125506Z
LAST-MODIFIED:20251112T125506Z
UID:10000817-1782120600-1782127800@trynwalderein.nl
SUMMARY:Ontmoetingsplek Noflik Dwaande
DESCRIPTION:Voor alle inwoners in de Trynwâlden\, die gezellig samen willen zijn\, actief willen blijven of gezellig even willen praten.\nOp maandag: creatieve vaardigheid en op woensdag: handwerk
URL:https://trynwalderein.nl/event/ontmoetingsplek-noflik-dwaande/2026-06-22/
LOCATION:Frisiastate 24\, Frisiastate 24\, Oentsjerk\, Friesland\, Netherlands
ATTACH;FMTTYPE=image/jpeg:https://trynwalderein.nl/wp-content/uploads/2025/11/creatief.jpg
ORGANIZER;CN="Noflyk Wenje":MAILTO:info@noflikdwaande.nl
END:VEVENT
BEGIN:VEVENT
DTSTART;TZID=UTC:20260623T193000
DTEND;TZID=UTC:20260623T203000
DTSTAMP:20260424T164314
CREATED:20251112T154415Z
LAST-MODIFIED:20251112T154415Z
UID:10001340-1782243000-1782246600@trynwalderein.nl
SUMMARY:Yin Yoga
DESCRIPTION:een gezonde manier van bewegen die aansluit bij jouw lichaam. Het is een langzame vorm van yoga voor rustige houdingen die langere tijd worden vastgehouden. Toegankelijk voor iedereen uit Trynwȃlden.\nIedere dinsdag van 19.30 tot 20.30 uur + van 20.45 tot 21.45 uur.\nIedere donderdag van 19.00 tot 20.00 uur + van 20.15 tot 21.15 uur.\nBelangstelling\, vragen en/of aanmelden: via WhatsApp of via email.
URL:https://trynwalderein.nl/event/yin-yoga/2026-06-23/
LOCATION:Frisiastate 24\, Frisiastate 23\, Oentsjerk\, Friesland\, Netherlands
ATTACH;FMTTYPE=image/jpeg:https://trynwalderein.nl/wp-content/uploads/2025/11/yinyan.jpg
ORGANIZER;CN="lavendelwellness.nl":MAILTO:welkom@lavendelwellness.nl
END:VEVENT
BEGIN:VEVENT
DTSTART;TZID=UTC:20260624T100000
DTEND;TZID=UTC:20260624T120000
DTSTAMP:20260424T164314
CREATED:20251111T120706Z
LAST-MODIFIED:20251111T120706Z
UID:10000556-1782295200-1782302400@trynwalderein.nl
SUMMARY:Inloop-koffie-ochtend Gytsjerk 'Sa Leuk Hûs'
DESCRIPTION:Iedere woensdag van 10.00 tot 12.00 uur \nVoor ouderen uit de omgeving\, gezamenlijk koffiedrinken en een gezellig praatje
URL:https://trynwalderein.nl/event/inloop-koffie-ochtend-gytsjerk-sa-leuk-hus/2026-06-24/
LOCATION:Canterlandseweg 1\, Gytsjerk\, Canterlandseweg 1\, Gytsjerk\, Friesland\, Netherlands
ATTACH;FMTTYPE=image/jpeg:https://trynwalderein.nl/wp-content/uploads/2025/11/ouderkoffie.jpg
ORGANIZER;CN="Sa Leuk H%C3%BBs":MAILTO:info@saleukhus.nl
END:VEVENT
BEGIN:VEVENT
DTSTART;TZID=UTC:20260624T133000
DTEND;TZID=UTC:20260624T163000
DTSTAMP:20260424T164314
CREATED:20251112T133654Z
LAST-MODIFIED:20251112T133654Z
UID:10001079-1782307800-1782318600@trynwalderein.nl
SUMMARY:Klaverjasgroep
DESCRIPTION:Kom ook klaverjassen in Heemstra State.
URL:https://trynwalderein.nl/event/klaverjasgroep/2026-06-24/
LOCATION:Heemstra State\, Frisiastate 23\, Oentsjerk\, Friesland\, Netherlands
ATTACH;FMTTYPE=image/jpeg:https://trynwalderein.nl/wp-content/uploads/2025/11/klaverjas.jpg
ORGANIZER;CN="noflikdwaande":MAILTO:info@noflikdwaande.nl
END:VEVENT
BEGIN:VEVENT
DTSTART;TZID=Europe/Amsterdam:20260625T150000
DTEND;TZID=Europe/Amsterdam:20260625T170000
DTSTAMP:20260424T164314
CREATED:20251110T102902Z
LAST-MODIFIED:20251111T114429Z
UID:10000294-1782399600-1782406800@trynwalderein.nl
SUMMARY:Koffiemiddag De Bân/Dbieb Gytsjerk
DESCRIPTION:Gezellig samenzijn met iedere donderdagmiddag een activiteit: spelletje\, discussie met behulp van vragen\, muziek\, zang en dergelijke.
URL:https://trynwalderein.nl/event/koffiemiddag-de-ban-dbieb-gytsjerk/2026-06-25/
LOCATION:Dorpshuis De Bân in bibliotheek Dbieb\, Simke Kloostermanstrjitte 6\, Gytsjerk\, Friesland\, 9061 BE\, Netherlands
ATTACH;FMTTYPE=image/jpeg:https://trynwalderein.nl/wp-content/uploads/2025/11/koffiemoment.jpg
ORGANIZER;CN="De B%C3%A2n/Dbieb Gytsjerk":MAILTO:ninibrink37@gmail.com
END:VEVENT
BEGIN:VEVENT
DTSTART;TZID=UTC:20260626T150000
DTEND;TZID=UTC:20260626T163000
DTSTAMP:20260424T164314
CREATED:20251112T155051Z
LAST-MODIFIED:20251112T155051Z
UID:10001602-1782486000-1782491400@trynwalderein.nl
SUMMARY:Digi-inloop
DESCRIPTION:deskundige hulp en advies bij problemen met computer\, smartphone of tablet.
URL:https://trynwalderein.nl/event/digi-inloop/2026-06-26/
LOCATION:Dorpshuis De Bân in bibliotheek Dbieb\, Simke Kloostermanstrjitte 6\, Gytsjerk\, Friesland\, 9061 BE\, Netherlands
ATTACH;FMTTYPE=image/jpeg:https://trynwalderein.nl/wp-content/uploads/2025/11/digiinloop.jpg
ORGANIZER;CN="De B%C3%A2n/Dbieb Gytsjerk":MAILTO:ninibrink37@gmail.com
END:VEVENT
BEGIN:VEVENT
DTSTART;TZID=UTC:20260629T093000
DTEND;TZID=UTC:20260629T113000
DTSTAMP:20260424T164314
CREATED:20251112T125506Z
LAST-MODIFIED:20251112T125506Z
UID:10000818-1782725400-1782732600@trynwalderein.nl
SUMMARY:Ontmoetingsplek Noflik Dwaande
DESCRIPTION:Voor alle inwoners in de Trynwâlden\, die gezellig samen willen zijn\, actief willen blijven of gezellig even willen praten.\nOp maandag: creatieve vaardigheid en op woensdag: handwerk
URL:https://trynwalderein.nl/event/ontmoetingsplek-noflik-dwaande/2026-06-29/
LOCATION:Frisiastate 24\, Frisiastate 24\, Oentsjerk\, Friesland\, Netherlands
ATTACH;FMTTYPE=image/jpeg:https://trynwalderein.nl/wp-content/uploads/2025/11/creatief.jpg
ORGANIZER;CN="Noflyk Wenje":MAILTO:info@noflikdwaande.nl
END:VEVENT
BEGIN:VEVENT
DTSTART;TZID=UTC:20260630T193000
DTEND;TZID=UTC:20260630T203000
DTSTAMP:20260424T164314
CREATED:20251112T154415Z
LAST-MODIFIED:20251112T154415Z
UID:10001341-1782847800-1782851400@trynwalderein.nl
SUMMARY:Yin Yoga
DESCRIPTION:een gezonde manier van bewegen die aansluit bij jouw lichaam. Het is een langzame vorm van yoga voor rustige houdingen die langere tijd worden vastgehouden. Toegankelijk voor iedereen uit Trynwȃlden.\nIedere dinsdag van 19.30 tot 20.30 uur + van 20.45 tot 21.45 uur.\nIedere donderdag van 19.00 tot 20.00 uur + van 20.15 tot 21.15 uur.\nBelangstelling\, vragen en/of aanmelden: via WhatsApp of via email.
URL:https://trynwalderein.nl/event/yin-yoga/2026-06-30/
LOCATION:Frisiastate 24\, Frisiastate 23\, Oentsjerk\, Friesland\, Netherlands
ATTACH;FMTTYPE=image/jpeg:https://trynwalderein.nl/wp-content/uploads/2025/11/yinyan.jpg
ORGANIZER;CN="lavendelwellness.nl":MAILTO:welkom@lavendelwellness.nl
END:VEVENT
BEGIN:VEVENT
DTSTART;TZID=UTC:20260701T100000
DTEND;TZID=UTC:20260701T120000
DTSTAMP:20260424T164314
CREATED:20251111T120706Z
LAST-MODIFIED:20251111T120706Z
UID:10000557-1782900000-1782907200@trynwalderein.nl
SUMMARY:Inloop-koffie-ochtend Gytsjerk 'Sa Leuk Hûs'
DESCRIPTION:Iedere woensdag van 10.00 tot 12.00 uur \nVoor ouderen uit de omgeving\, gezamenlijk koffiedrinken en een gezellig praatje
URL:https://trynwalderein.nl/event/inloop-koffie-ochtend-gytsjerk-sa-leuk-hus/2026-07-01/
LOCATION:Canterlandseweg 1\, Gytsjerk\, Canterlandseweg 1\, Gytsjerk\, Friesland\, Netherlands
ATTACH;FMTTYPE=image/jpeg:https://trynwalderein.nl/wp-content/uploads/2025/11/ouderkoffie.jpg
ORGANIZER;CN="Sa Leuk H%C3%BBs":MAILTO:info@saleukhus.nl
END:VEVENT
BEGIN:VEVENT
DTSTART;TZID=UTC:20260701T133000
DTEND;TZID=UTC:20260701T163000
DTSTAMP:20260424T164314
CREATED:20251112T133654Z
LAST-MODIFIED:20251112T133654Z
UID:10001080-1782912600-1782923400@trynwalderein.nl
SUMMARY:Klaverjasgroep
DESCRIPTION:Kom ook klaverjassen in Heemstra State.
URL:https://trynwalderein.nl/event/klaverjasgroep/2026-07-01/
LOCATION:Heemstra State\, Frisiastate 23\, Oentsjerk\, Friesland\, Netherlands
ATTACH;FMTTYPE=image/jpeg:https://trynwalderein.nl/wp-content/uploads/2025/11/klaverjas.jpg
ORGANIZER;CN="noflikdwaande":MAILTO:info@noflikdwaande.nl
END:VEVENT
END:VCALENDAR