BEGIN:VCALENDAR
VERSION:2.0
PRODID:-//Trynwâlderein - ECPv6.15.11//NONSGML v1.0//EN
CALSCALE:GREGORIAN
METHOD:PUBLISH
X-ORIGINAL-URL:https://trynwalderein.nl
X-WR-CALDESC:Evenementen voor Trynwâlderein
REFRESH-INTERVAL;VALUE=DURATION:PT1H
X-Robots-Tag:noindex
X-PUBLISHED-TTL:PT1H
BEGIN:VTIMEZONE
TZID:UTC
BEGIN:STANDARD
TZOFFSETFROM:+0000
TZOFFSETTO:+0000
TZNAME:UTC
DTSTART:20250101T000000
END:STANDARD
END:VTIMEZONE
BEGIN:VTIMEZONE
TZID:Europe/Amsterdam
BEGIN:DAYLIGHT
TZOFFSETFROM:+0100
TZOFFSETTO:+0200
TZNAME:CEST
DTSTART:20250330T010000
END:DAYLIGHT
BEGIN:STANDARD
TZOFFSETFROM:+0200
TZOFFSETTO:+0100
TZNAME:CET
DTSTART:20251026T010000
END:STANDARD
BEGIN:DAYLIGHT
TZOFFSETFROM:+0100
TZOFFSETTO:+0200
TZNAME:CEST
DTSTART:20260329T010000
END:DAYLIGHT
BEGIN:STANDARD
TZOFFSETFROM:+0200
TZOFFSETTO:+0100
TZNAME:CET
DTSTART:20261025T010000
END:STANDARD
BEGIN:DAYLIGHT
TZOFFSETFROM:+0100
TZOFFSETTO:+0200
TZNAME:CEST
DTSTART:20270328T010000
END:DAYLIGHT
BEGIN:STANDARD
TZOFFSETFROM:+0200
TZOFFSETTO:+0100
TZNAME:CET
DTSTART:20271031T010000
END:STANDARD
END:VTIMEZONE
BEGIN:VEVENT
DTSTART;TZID=UTC:20260506T133000
DTEND;TZID=UTC:20260506T163000
DTSTAMP:20260424T133526
CREATED:20251112T133654Z
LAST-MODIFIED:20251112T133654Z
UID:10001072-1778074200-1778085000@trynwalderein.nl
SUMMARY:Klaverjasgroep
DESCRIPTION:Kom ook klaverjassen in Heemstra State.
URL:https://trynwalderein.nl/event/klaverjasgroep/2026-05-06/
LOCATION:Heemstra State\, Frisiastate 23\, Oentsjerk\, Friesland\, Netherlands
ATTACH;FMTTYPE=image/jpeg:https://trynwalderein.nl/wp-content/uploads/2025/11/klaverjas.jpg
ORGANIZER;CN="noflikdwaande":MAILTO:info@noflikdwaande.nl
END:VEVENT
BEGIN:VEVENT
DTSTART;TZID=Europe/Amsterdam:20260507T150000
DTEND;TZID=Europe/Amsterdam:20260507T170000
DTSTAMP:20260424T133526
CREATED:20251110T102902Z
LAST-MODIFIED:20251111T114429Z
UID:10000287-1778166000-1778173200@trynwalderein.nl
SUMMARY:Koffiemiddag De Bân/Dbieb Gytsjerk
DESCRIPTION:Gezellig samenzijn met iedere donderdagmiddag een activiteit: spelletje\, discussie met behulp van vragen\, muziek\, zang en dergelijke.
URL:https://trynwalderein.nl/event/koffiemiddag-de-ban-dbieb-gytsjerk/2026-05-07/
LOCATION:Dorpshuis De Bân in bibliotheek Dbieb\, Simke Kloostermanstrjitte 6\, Gytsjerk\, Friesland\, 9061 BE\, Netherlands
ATTACH;FMTTYPE=image/jpeg:https://trynwalderein.nl/wp-content/uploads/2025/11/koffiemoment.jpg
ORGANIZER;CN="De B%C3%A2n/Dbieb Gytsjerk":MAILTO:ninibrink37@gmail.com
END:VEVENT
BEGIN:VEVENT
DTSTART;TZID=UTC:20260508T150000
DTEND;TZID=UTC:20260508T163000
DTSTAMP:20260424T133526
CREATED:20251112T155051Z
LAST-MODIFIED:20251112T155051Z
UID:10001595-1778252400-1778257800@trynwalderein.nl
SUMMARY:Digi-inloop
DESCRIPTION:deskundige hulp en advies bij problemen met computer\, smartphone of tablet.
URL:https://trynwalderein.nl/event/digi-inloop/2026-05-08/
LOCATION:Dorpshuis De Bân in bibliotheek Dbieb\, Simke Kloostermanstrjitte 6\, Gytsjerk\, Friesland\, 9061 BE\, Netherlands
ATTACH;FMTTYPE=image/jpeg:https://trynwalderein.nl/wp-content/uploads/2025/11/digiinloop.jpg
ORGANIZER;CN="De B%C3%A2n/Dbieb Gytsjerk":MAILTO:ninibrink37@gmail.com
END:VEVENT
BEGIN:VEVENT
DTSTART;TZID=UTC:20260511T093000
DTEND;TZID=UTC:20260511T113000
DTSTAMP:20260424T133526
CREATED:20251112T125506Z
LAST-MODIFIED:20251112T125506Z
UID:10000811-1778491800-1778499000@trynwalderein.nl
SUMMARY:Ontmoetingsplek Noflik Dwaande
DESCRIPTION:Voor alle inwoners in de Trynwâlden\, die gezellig samen willen zijn\, actief willen blijven of gezellig even willen praten.\nOp maandag: creatieve vaardigheid en op woensdag: handwerk
URL:https://trynwalderein.nl/event/ontmoetingsplek-noflik-dwaande/2026-05-11/
LOCATION:Frisiastate 24\, Frisiastate 24\, Oentsjerk\, Friesland\, Netherlands
ATTACH;FMTTYPE=image/jpeg:https://trynwalderein.nl/wp-content/uploads/2025/11/creatief.jpg
ORGANIZER;CN="Noflyk Wenje":MAILTO:info@noflikdwaande.nl
END:VEVENT
BEGIN:VEVENT
DTSTART;TZID=UTC:20260512T193000
DTEND;TZID=UTC:20260512T203000
DTSTAMP:20260424T133526
CREATED:20251112T154415Z
LAST-MODIFIED:20251112T154415Z
UID:10001334-1778614200-1778617800@trynwalderein.nl
SUMMARY:Yin Yoga
DESCRIPTION:een gezonde manier van bewegen die aansluit bij jouw lichaam. Het is een langzame vorm van yoga voor rustige houdingen die langere tijd worden vastgehouden. Toegankelijk voor iedereen uit Trynwȃlden.\nIedere dinsdag van 19.30 tot 20.30 uur + van 20.45 tot 21.45 uur.\nIedere donderdag van 19.00 tot 20.00 uur + van 20.15 tot 21.15 uur.\nBelangstelling\, vragen en/of aanmelden: via WhatsApp of via email.
URL:https://trynwalderein.nl/event/yin-yoga/2026-05-12/
LOCATION:Frisiastate 24\, Frisiastate 23\, Oentsjerk\, Friesland\, Netherlands
ATTACH;FMTTYPE=image/jpeg:https://trynwalderein.nl/wp-content/uploads/2025/11/yinyan.jpg
ORGANIZER;CN="lavendelwellness.nl":MAILTO:welkom@lavendelwellness.nl
END:VEVENT
BEGIN:VEVENT
DTSTART;TZID=UTC:20260513T100000
DTEND;TZID=UTC:20260513T120000
DTSTAMP:20260424T133526
CREATED:20251111T120706Z
LAST-MODIFIED:20251111T120706Z
UID:10000550-1778666400-1778673600@trynwalderein.nl
SUMMARY:Inloop-koffie-ochtend Gytsjerk 'Sa Leuk Hûs'
DESCRIPTION:Iedere woensdag van 10.00 tot 12.00 uur \nVoor ouderen uit de omgeving\, gezamenlijk koffiedrinken en een gezellig praatje
URL:https://trynwalderein.nl/event/inloop-koffie-ochtend-gytsjerk-sa-leuk-hus/2026-05-13/
LOCATION:Canterlandseweg 1\, Gytsjerk\, Canterlandseweg 1\, Gytsjerk\, Friesland\, Netherlands
ATTACH;FMTTYPE=image/jpeg:https://trynwalderein.nl/wp-content/uploads/2025/11/ouderkoffie.jpg
ORGANIZER;CN="Sa Leuk H%C3%BBs":MAILTO:info@saleukhus.nl
END:VEVENT
BEGIN:VEVENT
DTSTART;TZID=UTC:20260513T133000
DTEND;TZID=UTC:20260513T163000
DTSTAMP:20260424T133526
CREATED:20251112T133654Z
LAST-MODIFIED:20251112T133654Z
UID:10001073-1778679000-1778689800@trynwalderein.nl
SUMMARY:Klaverjasgroep
DESCRIPTION:Kom ook klaverjassen in Heemstra State.
URL:https://trynwalderein.nl/event/klaverjasgroep/2026-05-13/
LOCATION:Heemstra State\, Frisiastate 23\, Oentsjerk\, Friesland\, Netherlands
ATTACH;FMTTYPE=image/jpeg:https://trynwalderein.nl/wp-content/uploads/2025/11/klaverjas.jpg
ORGANIZER;CN="noflikdwaande":MAILTO:info@noflikdwaande.nl
END:VEVENT
BEGIN:VEVENT
DTSTART;TZID=Europe/Amsterdam:20260514T150000
DTEND;TZID=Europe/Amsterdam:20260514T170000
DTSTAMP:20260424T133526
CREATED:20251110T102902Z
LAST-MODIFIED:20251111T114429Z
UID:10000288-1778770800-1778778000@trynwalderein.nl
SUMMARY:Koffiemiddag De Bân/Dbieb Gytsjerk
DESCRIPTION:Gezellig samenzijn met iedere donderdagmiddag een activiteit: spelletje\, discussie met behulp van vragen\, muziek\, zang en dergelijke.
URL:https://trynwalderein.nl/event/koffiemiddag-de-ban-dbieb-gytsjerk/2026-05-14/
LOCATION:Dorpshuis De Bân in bibliotheek Dbieb\, Simke Kloostermanstrjitte 6\, Gytsjerk\, Friesland\, 9061 BE\, Netherlands
ATTACH;FMTTYPE=image/jpeg:https://trynwalderein.nl/wp-content/uploads/2025/11/koffiemoment.jpg
ORGANIZER;CN="De B%C3%A2n/Dbieb Gytsjerk":MAILTO:ninibrink37@gmail.com
END:VEVENT
BEGIN:VEVENT
DTSTART;TZID=UTC:20260515T150000
DTEND;TZID=UTC:20260515T163000
DTSTAMP:20260424T133526
CREATED:20251112T155051Z
LAST-MODIFIED:20251112T155051Z
UID:10001596-1778857200-1778862600@trynwalderein.nl
SUMMARY:Digi-inloop
DESCRIPTION:deskundige hulp en advies bij problemen met computer\, smartphone of tablet.
URL:https://trynwalderein.nl/event/digi-inloop/2026-05-15/
LOCATION:Dorpshuis De Bân in bibliotheek Dbieb\, Simke Kloostermanstrjitte 6\, Gytsjerk\, Friesland\, 9061 BE\, Netherlands
ATTACH;FMTTYPE=image/jpeg:https://trynwalderein.nl/wp-content/uploads/2025/11/digiinloop.jpg
ORGANIZER;CN="De B%C3%A2n/Dbieb Gytsjerk":MAILTO:ninibrink37@gmail.com
END:VEVENT
BEGIN:VEVENT
DTSTART;TZID=UTC:20260518T093000
DTEND;TZID=UTC:20260518T113000
DTSTAMP:20260424T133526
CREATED:20251112T125506Z
LAST-MODIFIED:20251112T125506Z
UID:10000812-1779096600-1779103800@trynwalderein.nl
SUMMARY:Ontmoetingsplek Noflik Dwaande
DESCRIPTION:Voor alle inwoners in de Trynwâlden\, die gezellig samen willen zijn\, actief willen blijven of gezellig even willen praten.\nOp maandag: creatieve vaardigheid en op woensdag: handwerk
URL:https://trynwalderein.nl/event/ontmoetingsplek-noflik-dwaande/2026-05-18/
LOCATION:Frisiastate 24\, Frisiastate 24\, Oentsjerk\, Friesland\, Netherlands
ATTACH;FMTTYPE=image/jpeg:https://trynwalderein.nl/wp-content/uploads/2025/11/creatief.jpg
ORGANIZER;CN="Noflyk Wenje":MAILTO:info@noflikdwaande.nl
END:VEVENT
BEGIN:VEVENT
DTSTART;TZID=UTC:20260519T193000
DTEND;TZID=UTC:20260519T203000
DTSTAMP:20260424T133526
CREATED:20251112T154415Z
LAST-MODIFIED:20251112T154415Z
UID:10001335-1779219000-1779222600@trynwalderein.nl
SUMMARY:Yin Yoga
DESCRIPTION:een gezonde manier van bewegen die aansluit bij jouw lichaam. Het is een langzame vorm van yoga voor rustige houdingen die langere tijd worden vastgehouden. Toegankelijk voor iedereen uit Trynwȃlden.\nIedere dinsdag van 19.30 tot 20.30 uur + van 20.45 tot 21.45 uur.\nIedere donderdag van 19.00 tot 20.00 uur + van 20.15 tot 21.15 uur.\nBelangstelling\, vragen en/of aanmelden: via WhatsApp of via email.
URL:https://trynwalderein.nl/event/yin-yoga/2026-05-19/
LOCATION:Frisiastate 24\, Frisiastate 23\, Oentsjerk\, Friesland\, Netherlands
ATTACH;FMTTYPE=image/jpeg:https://trynwalderein.nl/wp-content/uploads/2025/11/yinyan.jpg
ORGANIZER;CN="lavendelwellness.nl":MAILTO:welkom@lavendelwellness.nl
END:VEVENT
BEGIN:VEVENT
DTSTART;TZID=UTC:20260520T100000
DTEND;TZID=UTC:20260520T120000
DTSTAMP:20260424T133526
CREATED:20251111T120706Z
LAST-MODIFIED:20251111T120706Z
UID:10000551-1779271200-1779278400@trynwalderein.nl
SUMMARY:Inloop-koffie-ochtend Gytsjerk 'Sa Leuk Hûs'
DESCRIPTION:Iedere woensdag van 10.00 tot 12.00 uur \nVoor ouderen uit de omgeving\, gezamenlijk koffiedrinken en een gezellig praatje
URL:https://trynwalderein.nl/event/inloop-koffie-ochtend-gytsjerk-sa-leuk-hus/2026-05-20/
LOCATION:Canterlandseweg 1\, Gytsjerk\, Canterlandseweg 1\, Gytsjerk\, Friesland\, Netherlands
ATTACH;FMTTYPE=image/jpeg:https://trynwalderein.nl/wp-content/uploads/2025/11/ouderkoffie.jpg
ORGANIZER;CN="Sa Leuk H%C3%BBs":MAILTO:info@saleukhus.nl
END:VEVENT
BEGIN:VEVENT
DTSTART;TZID=UTC:20260520T133000
DTEND;TZID=UTC:20260520T163000
DTSTAMP:20260424T133526
CREATED:20251112T133654Z
LAST-MODIFIED:20251112T133654Z
UID:10001074-1779283800-1779294600@trynwalderein.nl
SUMMARY:Klaverjasgroep
DESCRIPTION:Kom ook klaverjassen in Heemstra State.
URL:https://trynwalderein.nl/event/klaverjasgroep/2026-05-20/
LOCATION:Heemstra State\, Frisiastate 23\, Oentsjerk\, Friesland\, Netherlands
ATTACH;FMTTYPE=image/jpeg:https://trynwalderein.nl/wp-content/uploads/2025/11/klaverjas.jpg
ORGANIZER;CN="noflikdwaande":MAILTO:info@noflikdwaande.nl
END:VEVENT
BEGIN:VEVENT
DTSTART;TZID=Europe/Amsterdam:20260521T150000
DTEND;TZID=Europe/Amsterdam:20260521T170000
DTSTAMP:20260424T133526
CREATED:20251110T102902Z
LAST-MODIFIED:20251111T114429Z
UID:10000289-1779375600-1779382800@trynwalderein.nl
SUMMARY:Koffiemiddag De Bân/Dbieb Gytsjerk
DESCRIPTION:Gezellig samenzijn met iedere donderdagmiddag een activiteit: spelletje\, discussie met behulp van vragen\, muziek\, zang en dergelijke.
URL:https://trynwalderein.nl/event/koffiemiddag-de-ban-dbieb-gytsjerk/2026-05-21/
LOCATION:Dorpshuis De Bân in bibliotheek Dbieb\, Simke Kloostermanstrjitte 6\, Gytsjerk\, Friesland\, 9061 BE\, Netherlands
ATTACH;FMTTYPE=image/jpeg:https://trynwalderein.nl/wp-content/uploads/2025/11/koffiemoment.jpg
ORGANIZER;CN="De B%C3%A2n/Dbieb Gytsjerk":MAILTO:ninibrink37@gmail.com
END:VEVENT
BEGIN:VEVENT
DTSTART;TZID=UTC:20260522T150000
DTEND;TZID=UTC:20260522T163000
DTSTAMP:20260424T133526
CREATED:20251112T155051Z
LAST-MODIFIED:20251112T155051Z
UID:10001597-1779462000-1779467400@trynwalderein.nl
SUMMARY:Digi-inloop
DESCRIPTION:deskundige hulp en advies bij problemen met computer\, smartphone of tablet.
URL:https://trynwalderein.nl/event/digi-inloop/2026-05-22/
LOCATION:Dorpshuis De Bân in bibliotheek Dbieb\, Simke Kloostermanstrjitte 6\, Gytsjerk\, Friesland\, 9061 BE\, Netherlands
ATTACH;FMTTYPE=image/jpeg:https://trynwalderein.nl/wp-content/uploads/2025/11/digiinloop.jpg
ORGANIZER;CN="De B%C3%A2n/Dbieb Gytsjerk":MAILTO:ninibrink37@gmail.com
END:VEVENT
BEGIN:VEVENT
DTSTART;TZID=UTC:20260525T093000
DTEND;TZID=UTC:20260525T113000
DTSTAMP:20260424T133526
CREATED:20251112T125506Z
LAST-MODIFIED:20251112T125506Z
UID:10000813-1779701400-1779708600@trynwalderein.nl
SUMMARY:Ontmoetingsplek Noflik Dwaande
DESCRIPTION:Voor alle inwoners in de Trynwâlden\, die gezellig samen willen zijn\, actief willen blijven of gezellig even willen praten.\nOp maandag: creatieve vaardigheid en op woensdag: handwerk
URL:https://trynwalderein.nl/event/ontmoetingsplek-noflik-dwaande/2026-05-25/
LOCATION:Frisiastate 24\, Frisiastate 24\, Oentsjerk\, Friesland\, Netherlands
ATTACH;FMTTYPE=image/jpeg:https://trynwalderein.nl/wp-content/uploads/2025/11/creatief.jpg
ORGANIZER;CN="Noflyk Wenje":MAILTO:info@noflikdwaande.nl
END:VEVENT
BEGIN:VEVENT
DTSTART;TZID=UTC:20260526T193000
DTEND;TZID=UTC:20260526T203000
DTSTAMP:20260424T133526
CREATED:20251112T154415Z
LAST-MODIFIED:20251112T154415Z
UID:10001336-1779823800-1779827400@trynwalderein.nl
SUMMARY:Yin Yoga
DESCRIPTION:een gezonde manier van bewegen die aansluit bij jouw lichaam. Het is een langzame vorm van yoga voor rustige houdingen die langere tijd worden vastgehouden. Toegankelijk voor iedereen uit Trynwȃlden.\nIedere dinsdag van 19.30 tot 20.30 uur + van 20.45 tot 21.45 uur.\nIedere donderdag van 19.00 tot 20.00 uur + van 20.15 tot 21.15 uur.\nBelangstelling\, vragen en/of aanmelden: via WhatsApp of via email.
URL:https://trynwalderein.nl/event/yin-yoga/2026-05-26/
LOCATION:Frisiastate 24\, Frisiastate 23\, Oentsjerk\, Friesland\, Netherlands
ATTACH;FMTTYPE=image/jpeg:https://trynwalderein.nl/wp-content/uploads/2025/11/yinyan.jpg
ORGANIZER;CN="lavendelwellness.nl":MAILTO:welkom@lavendelwellness.nl
END:VEVENT
BEGIN:VEVENT
DTSTART;TZID=UTC:20260527T100000
DTEND;TZID=UTC:20260527T120000
DTSTAMP:20260424T133526
CREATED:20251111T120706Z
LAST-MODIFIED:20251111T120706Z
UID:10000552-1779876000-1779883200@trynwalderein.nl
SUMMARY:Inloop-koffie-ochtend Gytsjerk 'Sa Leuk Hûs'
DESCRIPTION:Iedere woensdag van 10.00 tot 12.00 uur \nVoor ouderen uit de omgeving\, gezamenlijk koffiedrinken en een gezellig praatje
URL:https://trynwalderein.nl/event/inloop-koffie-ochtend-gytsjerk-sa-leuk-hus/2026-05-27/
LOCATION:Canterlandseweg 1\, Gytsjerk\, Canterlandseweg 1\, Gytsjerk\, Friesland\, Netherlands
ATTACH;FMTTYPE=image/jpeg:https://trynwalderein.nl/wp-content/uploads/2025/11/ouderkoffie.jpg
ORGANIZER;CN="Sa Leuk H%C3%BBs":MAILTO:info@saleukhus.nl
END:VEVENT
BEGIN:VEVENT
DTSTART;TZID=UTC:20260527T133000
DTEND;TZID=UTC:20260527T163000
DTSTAMP:20260424T133526
CREATED:20251112T133654Z
LAST-MODIFIED:20251112T133654Z
UID:10001075-1779888600-1779899400@trynwalderein.nl
SUMMARY:Klaverjasgroep
DESCRIPTION:Kom ook klaverjassen in Heemstra State.
URL:https://trynwalderein.nl/event/klaverjasgroep/2026-05-27/
LOCATION:Heemstra State\, Frisiastate 23\, Oentsjerk\, Friesland\, Netherlands
ATTACH;FMTTYPE=image/jpeg:https://trynwalderein.nl/wp-content/uploads/2025/11/klaverjas.jpg
ORGANIZER;CN="noflikdwaande":MAILTO:info@noflikdwaande.nl
END:VEVENT
BEGIN:VEVENT
DTSTART;TZID=Europe/Amsterdam:20260528T150000
DTEND;TZID=Europe/Amsterdam:20260528T170000
DTSTAMP:20260424T133526
CREATED:20251110T102902Z
LAST-MODIFIED:20251111T114429Z
UID:10000290-1779980400-1779987600@trynwalderein.nl
SUMMARY:Koffiemiddag De Bân/Dbieb Gytsjerk
DESCRIPTION:Gezellig samenzijn met iedere donderdagmiddag een activiteit: spelletje\, discussie met behulp van vragen\, muziek\, zang en dergelijke.
URL:https://trynwalderein.nl/event/koffiemiddag-de-ban-dbieb-gytsjerk/2026-05-28/
LOCATION:Dorpshuis De Bân in bibliotheek Dbieb\, Simke Kloostermanstrjitte 6\, Gytsjerk\, Friesland\, 9061 BE\, Netherlands
ATTACH;FMTTYPE=image/jpeg:https://trynwalderein.nl/wp-content/uploads/2025/11/koffiemoment.jpg
ORGANIZER;CN="De B%C3%A2n/Dbieb Gytsjerk":MAILTO:ninibrink37@gmail.com
END:VEVENT
BEGIN:VEVENT
DTSTART;TZID=UTC:20260529T150000
DTEND;TZID=UTC:20260529T163000
DTSTAMP:20260424T133526
CREATED:20251112T155051Z
LAST-MODIFIED:20251112T155051Z
UID:10001598-1780066800-1780072200@trynwalderein.nl
SUMMARY:Digi-inloop
DESCRIPTION:deskundige hulp en advies bij problemen met computer\, smartphone of tablet.
URL:https://trynwalderein.nl/event/digi-inloop/2026-05-29/
LOCATION:Dorpshuis De Bân in bibliotheek Dbieb\, Simke Kloostermanstrjitte 6\, Gytsjerk\, Friesland\, 9061 BE\, Netherlands
ATTACH;FMTTYPE=image/jpeg:https://trynwalderein.nl/wp-content/uploads/2025/11/digiinloop.jpg
ORGANIZER;CN="De B%C3%A2n/Dbieb Gytsjerk":MAILTO:ninibrink37@gmail.com
END:VEVENT
BEGIN:VEVENT
DTSTART;TZID=UTC:20260601T093000
DTEND;TZID=UTC:20260601T113000
DTSTAMP:20260424T133526
CREATED:20251112T125506Z
LAST-MODIFIED:20251112T125506Z
UID:10000814-1780306200-1780313400@trynwalderein.nl
SUMMARY:Ontmoetingsplek Noflik Dwaande
DESCRIPTION:Voor alle inwoners in de Trynwâlden\, die gezellig samen willen zijn\, actief willen blijven of gezellig even willen praten.\nOp maandag: creatieve vaardigheid en op woensdag: handwerk
URL:https://trynwalderein.nl/event/ontmoetingsplek-noflik-dwaande/2026-06-01/
LOCATION:Frisiastate 24\, Frisiastate 24\, Oentsjerk\, Friesland\, Netherlands
ATTACH;FMTTYPE=image/jpeg:https://trynwalderein.nl/wp-content/uploads/2025/11/creatief.jpg
ORGANIZER;CN="Noflyk Wenje":MAILTO:info@noflikdwaande.nl
END:VEVENT
BEGIN:VEVENT
DTSTART;TZID=UTC:20260602T193000
DTEND;TZID=UTC:20260602T203000
DTSTAMP:20260424T133526
CREATED:20251112T154415Z
LAST-MODIFIED:20251112T154415Z
UID:10001337-1780428600-1780432200@trynwalderein.nl
SUMMARY:Yin Yoga
DESCRIPTION:een gezonde manier van bewegen die aansluit bij jouw lichaam. Het is een langzame vorm van yoga voor rustige houdingen die langere tijd worden vastgehouden. Toegankelijk voor iedereen uit Trynwȃlden.\nIedere dinsdag van 19.30 tot 20.30 uur + van 20.45 tot 21.45 uur.\nIedere donderdag van 19.00 tot 20.00 uur + van 20.15 tot 21.15 uur.\nBelangstelling\, vragen en/of aanmelden: via WhatsApp of via email.
URL:https://trynwalderein.nl/event/yin-yoga/2026-06-02/
LOCATION:Frisiastate 24\, Frisiastate 23\, Oentsjerk\, Friesland\, Netherlands
ATTACH;FMTTYPE=image/jpeg:https://trynwalderein.nl/wp-content/uploads/2025/11/yinyan.jpg
ORGANIZER;CN="lavendelwellness.nl":MAILTO:welkom@lavendelwellness.nl
END:VEVENT
BEGIN:VEVENT
DTSTART;TZID=UTC:20260603T100000
DTEND;TZID=UTC:20260603T120000
DTSTAMP:20260424T133526
CREATED:20251111T120706Z
LAST-MODIFIED:20251111T120706Z
UID:10000553-1780480800-1780488000@trynwalderein.nl
SUMMARY:Inloop-koffie-ochtend Gytsjerk 'Sa Leuk Hûs'
DESCRIPTION:Iedere woensdag van 10.00 tot 12.00 uur \nVoor ouderen uit de omgeving\, gezamenlijk koffiedrinken en een gezellig praatje
URL:https://trynwalderein.nl/event/inloop-koffie-ochtend-gytsjerk-sa-leuk-hus/2026-06-03/
LOCATION:Canterlandseweg 1\, Gytsjerk\, Canterlandseweg 1\, Gytsjerk\, Friesland\, Netherlands
ATTACH;FMTTYPE=image/jpeg:https://trynwalderein.nl/wp-content/uploads/2025/11/ouderkoffie.jpg
ORGANIZER;CN="Sa Leuk H%C3%BBs":MAILTO:info@saleukhus.nl
END:VEVENT
BEGIN:VEVENT
DTSTART;TZID=UTC:20260603T133000
DTEND;TZID=UTC:20260603T163000
DTSTAMP:20260424T133526
CREATED:20251112T133654Z
LAST-MODIFIED:20251112T133654Z
UID:10001076-1780493400-1780504200@trynwalderein.nl
SUMMARY:Klaverjasgroep
DESCRIPTION:Kom ook klaverjassen in Heemstra State.
URL:https://trynwalderein.nl/event/klaverjasgroep/2026-06-03/
LOCATION:Heemstra State\, Frisiastate 23\, Oentsjerk\, Friesland\, Netherlands
ATTACH;FMTTYPE=image/jpeg:https://trynwalderein.nl/wp-content/uploads/2025/11/klaverjas.jpg
ORGANIZER;CN="noflikdwaande":MAILTO:info@noflikdwaande.nl
END:VEVENT
BEGIN:VEVENT
DTSTART;TZID=Europe/Amsterdam:20260604T150000
DTEND;TZID=Europe/Amsterdam:20260604T170000
DTSTAMP:20260424T133526
CREATED:20251110T102902Z
LAST-MODIFIED:20251111T114429Z
UID:10000291-1780585200-1780592400@trynwalderein.nl
SUMMARY:Koffiemiddag De Bân/Dbieb Gytsjerk
DESCRIPTION:Gezellig samenzijn met iedere donderdagmiddag een activiteit: spelletje\, discussie met behulp van vragen\, muziek\, zang en dergelijke.
URL:https://trynwalderein.nl/event/koffiemiddag-de-ban-dbieb-gytsjerk/2026-06-04/
LOCATION:Dorpshuis De Bân in bibliotheek Dbieb\, Simke Kloostermanstrjitte 6\, Gytsjerk\, Friesland\, 9061 BE\, Netherlands
ATTACH;FMTTYPE=image/jpeg:https://trynwalderein.nl/wp-content/uploads/2025/11/koffiemoment.jpg
ORGANIZER;CN="De B%C3%A2n/Dbieb Gytsjerk":MAILTO:ninibrink37@gmail.com
END:VEVENT
BEGIN:VEVENT
DTSTART;TZID=UTC:20260605T150000
DTEND;TZID=UTC:20260605T163000
DTSTAMP:20260424T133526
CREATED:20251112T155051Z
LAST-MODIFIED:20251112T155051Z
UID:10001599-1780671600-1780677000@trynwalderein.nl
SUMMARY:Digi-inloop
DESCRIPTION:deskundige hulp en advies bij problemen met computer\, smartphone of tablet.
URL:https://trynwalderein.nl/event/digi-inloop/2026-06-05/
LOCATION:Dorpshuis De Bân in bibliotheek Dbieb\, Simke Kloostermanstrjitte 6\, Gytsjerk\, Friesland\, 9061 BE\, Netherlands
ATTACH;FMTTYPE=image/jpeg:https://trynwalderein.nl/wp-content/uploads/2025/11/digiinloop.jpg
ORGANIZER;CN="De B%C3%A2n/Dbieb Gytsjerk":MAILTO:ninibrink37@gmail.com
END:VEVENT
BEGIN:VEVENT
DTSTART;TZID=UTC:20260608T093000
DTEND;TZID=UTC:20260608T113000
DTSTAMP:20260424T133526
CREATED:20251112T125506Z
LAST-MODIFIED:20251112T125506Z
UID:10000815-1780911000-1780918200@trynwalderein.nl
SUMMARY:Ontmoetingsplek Noflik Dwaande
DESCRIPTION:Voor alle inwoners in de Trynwâlden\, die gezellig samen willen zijn\, actief willen blijven of gezellig even willen praten.\nOp maandag: creatieve vaardigheid en op woensdag: handwerk
URL:https://trynwalderein.nl/event/ontmoetingsplek-noflik-dwaande/2026-06-08/
LOCATION:Frisiastate 24\, Frisiastate 24\, Oentsjerk\, Friesland\, Netherlands
ATTACH;FMTTYPE=image/jpeg:https://trynwalderein.nl/wp-content/uploads/2025/11/creatief.jpg
ORGANIZER;CN="Noflyk Wenje":MAILTO:info@noflikdwaande.nl
END:VEVENT
BEGIN:VEVENT
DTSTART;TZID=UTC:20260609T193000
DTEND;TZID=UTC:20260609T203000
DTSTAMP:20260424T133526
CREATED:20251112T154415Z
LAST-MODIFIED:20251112T154415Z
UID:10001338-1781033400-1781037000@trynwalderein.nl
SUMMARY:Yin Yoga
DESCRIPTION:een gezonde manier van bewegen die aansluit bij jouw lichaam. Het is een langzame vorm van yoga voor rustige houdingen die langere tijd worden vastgehouden. Toegankelijk voor iedereen uit Trynwȃlden.\nIedere dinsdag van 19.30 tot 20.30 uur + van 20.45 tot 21.45 uur.\nIedere donderdag van 19.00 tot 20.00 uur + van 20.15 tot 21.15 uur.\nBelangstelling\, vragen en/of aanmelden: via WhatsApp of via email.
URL:https://trynwalderein.nl/event/yin-yoga/2026-06-09/
LOCATION:Frisiastate 24\, Frisiastate 23\, Oentsjerk\, Friesland\, Netherlands
ATTACH;FMTTYPE=image/jpeg:https://trynwalderein.nl/wp-content/uploads/2025/11/yinyan.jpg
ORGANIZER;CN="lavendelwellness.nl":MAILTO:welkom@lavendelwellness.nl
END:VEVENT
BEGIN:VEVENT
DTSTART;TZID=UTC:20260610T100000
DTEND;TZID=UTC:20260610T120000
DTSTAMP:20260424T133526
CREATED:20251111T120706Z
LAST-MODIFIED:20251111T120706Z
UID:10000554-1781085600-1781092800@trynwalderein.nl
SUMMARY:Inloop-koffie-ochtend Gytsjerk 'Sa Leuk Hûs'
DESCRIPTION:Iedere woensdag van 10.00 tot 12.00 uur \nVoor ouderen uit de omgeving\, gezamenlijk koffiedrinken en een gezellig praatje
URL:https://trynwalderein.nl/event/inloop-koffie-ochtend-gytsjerk-sa-leuk-hus/2026-06-10/
LOCATION:Canterlandseweg 1\, Gytsjerk\, Canterlandseweg 1\, Gytsjerk\, Friesland\, Netherlands
ATTACH;FMTTYPE=image/jpeg:https://trynwalderein.nl/wp-content/uploads/2025/11/ouderkoffie.jpg
ORGANIZER;CN="Sa Leuk H%C3%BBs":MAILTO:info@saleukhus.nl
END:VEVENT
END:VCALENDAR