BEGIN:VCALENDAR
VERSION:2.0
PRODID:-//Trynwâlderein - ECPv6.15.11//NONSGML v1.0//EN
CALSCALE:GREGORIAN
METHOD:PUBLISH
X-WR-CALNAME:Trynwâlderein
X-ORIGINAL-URL:https://trynwalderein.nl
X-WR-CALDESC:Evenementen voor Trynwâlderein
REFRESH-INTERVAL;VALUE=DURATION:PT1H
X-Robots-Tag:noindex
X-PUBLISHED-TTL:PT1H
BEGIN:VTIMEZONE
TZID:UTC
BEGIN:STANDARD
TZOFFSETFROM:+0000
TZOFFSETTO:+0000
TZNAME:UTC
DTSTART:20250101T000000
END:STANDARD
END:VTIMEZONE
BEGIN:VTIMEZONE
TZID:Europe/Amsterdam
BEGIN:DAYLIGHT
TZOFFSETFROM:+0100
TZOFFSETTO:+0200
TZNAME:CEST
DTSTART:20250330T010000
END:DAYLIGHT
BEGIN:STANDARD
TZOFFSETFROM:+0200
TZOFFSETTO:+0100
TZNAME:CET
DTSTART:20251026T010000
END:STANDARD
BEGIN:DAYLIGHT
TZOFFSETFROM:+0100
TZOFFSETTO:+0200
TZNAME:CEST
DTSTART:20260329T010000
END:DAYLIGHT
BEGIN:STANDARD
TZOFFSETFROM:+0200
TZOFFSETTO:+0100
TZNAME:CET
DTSTART:20261025T010000
END:STANDARD
BEGIN:DAYLIGHT
TZOFFSETFROM:+0100
TZOFFSETTO:+0200
TZNAME:CEST
DTSTART:20270328T010000
END:DAYLIGHT
BEGIN:STANDARD
TZOFFSETFROM:+0200
TZOFFSETTO:+0100
TZNAME:CET
DTSTART:20271031T010000
END:STANDARD
END:VTIMEZONE
BEGIN:VEVENT
DTSTART;TZID=UTC:20260401T100000
DTEND;TZID=UTC:20260401T120000
DTSTAMP:20260424T132948
CREATED:20251111T120706Z
LAST-MODIFIED:20251111T120706Z
UID:10000544-1775037600-1775044800@trynwalderein.nl
SUMMARY:Inloop-koffie-ochtend Gytsjerk 'Sa Leuk Hûs'
DESCRIPTION:Iedere woensdag van 10.00 tot 12.00 uur \nVoor ouderen uit de omgeving\, gezamenlijk koffiedrinken en een gezellig praatje
URL:https://trynwalderein.nl/event/inloop-koffie-ochtend-gytsjerk-sa-leuk-hus/2026-04-01/
LOCATION:Canterlandseweg 1\, Gytsjerk\, Canterlandseweg 1\, Gytsjerk\, Friesland\, Netherlands
ATTACH;FMTTYPE=image/jpeg:https://trynwalderein.nl/wp-content/uploads/2025/11/ouderkoffie.jpg
ORGANIZER;CN="Sa Leuk H%C3%BBs":MAILTO:info@saleukhus.nl
END:VEVENT
BEGIN:VEVENT
DTSTART;TZID=UTC:20260401T133000
DTEND;TZID=UTC:20260401T163000
DTSTAMP:20260424T132948
CREATED:20251112T133654Z
LAST-MODIFIED:20251112T133654Z
UID:10001067-1775050200-1775061000@trynwalderein.nl
SUMMARY:Klaverjasgroep
DESCRIPTION:Kom ook klaverjassen in Heemstra State.
URL:https://trynwalderein.nl/event/klaverjasgroep/2026-04-01/
LOCATION:Heemstra State\, Frisiastate 23\, Oentsjerk\, Friesland\, Netherlands
ATTACH;FMTTYPE=image/jpeg:https://trynwalderein.nl/wp-content/uploads/2025/11/klaverjas.jpg
ORGANIZER;CN="noflikdwaande":MAILTO:info@noflikdwaande.nl
END:VEVENT
BEGIN:VEVENT
DTSTART;TZID=Europe/Amsterdam:20260402T150000
DTEND;TZID=Europe/Amsterdam:20260402T170000
DTSTAMP:20260424T132948
CREATED:20251110T102902Z
LAST-MODIFIED:20251111T114429Z
UID:10000282-1775142000-1775149200@trynwalderein.nl
SUMMARY:Koffiemiddag De Bân/Dbieb Gytsjerk
DESCRIPTION:Gezellig samenzijn met iedere donderdagmiddag een activiteit: spelletje\, discussie met behulp van vragen\, muziek\, zang en dergelijke.
URL:https://trynwalderein.nl/event/koffiemiddag-de-ban-dbieb-gytsjerk/2026-04-02/
LOCATION:Dorpshuis De Bân in bibliotheek Dbieb\, Simke Kloostermanstrjitte 6\, Gytsjerk\, Friesland\, 9061 BE\, Netherlands
ATTACH;FMTTYPE=image/jpeg:https://trynwalderein.nl/wp-content/uploads/2025/11/koffiemoment.jpg
ORGANIZER;CN="De B%C3%A2n/Dbieb Gytsjerk":MAILTO:ninibrink37@gmail.com
END:VEVENT
BEGIN:VEVENT
DTSTART;TZID=UTC:20260403T150000
DTEND;TZID=UTC:20260403T163000
DTSTAMP:20260424T132948
CREATED:20251112T155051Z
LAST-MODIFIED:20251112T155051Z
UID:10001590-1775228400-1775233800@trynwalderein.nl
SUMMARY:Digi-inloop
DESCRIPTION:deskundige hulp en advies bij problemen met computer\, smartphone of tablet.
URL:https://trynwalderein.nl/event/digi-inloop/2026-04-03/
LOCATION:Dorpshuis De Bân in bibliotheek Dbieb\, Simke Kloostermanstrjitte 6\, Gytsjerk\, Friesland\, 9061 BE\, Netherlands
ATTACH;FMTTYPE=image/jpeg:https://trynwalderein.nl/wp-content/uploads/2025/11/digiinloop.jpg
ORGANIZER;CN="De B%C3%A2n/Dbieb Gytsjerk":MAILTO:ninibrink37@gmail.com
END:VEVENT
BEGIN:VEVENT
DTSTART;TZID=UTC:20260406T093000
DTEND;TZID=UTC:20260406T113000
DTSTAMP:20260424T132948
CREATED:20251112T125506Z
LAST-MODIFIED:20251112T125506Z
UID:10000806-1775467800-1775475000@trynwalderein.nl
SUMMARY:Ontmoetingsplek Noflik Dwaande
DESCRIPTION:Voor alle inwoners in de Trynwâlden\, die gezellig samen willen zijn\, actief willen blijven of gezellig even willen praten.\nOp maandag: creatieve vaardigheid en op woensdag: handwerk
URL:https://trynwalderein.nl/event/ontmoetingsplek-noflik-dwaande/2026-04-06/
LOCATION:Frisiastate 24\, Frisiastate 24\, Oentsjerk\, Friesland\, Netherlands
ATTACH;FMTTYPE=image/jpeg:https://trynwalderein.nl/wp-content/uploads/2025/11/creatief.jpg
ORGANIZER;CN="Noflyk Wenje":MAILTO:info@noflikdwaande.nl
END:VEVENT
BEGIN:VEVENT
DTSTART;TZID=UTC:20260407T193000
DTEND;TZID=UTC:20260407T203000
DTSTAMP:20260424T132948
CREATED:20251112T154415Z
LAST-MODIFIED:20251112T154415Z
UID:10001329-1775590200-1775593800@trynwalderein.nl
SUMMARY:Yin Yoga
DESCRIPTION:een gezonde manier van bewegen die aansluit bij jouw lichaam. Het is een langzame vorm van yoga voor rustige houdingen die langere tijd worden vastgehouden. Toegankelijk voor iedereen uit Trynwȃlden.\nIedere dinsdag van 19.30 tot 20.30 uur + van 20.45 tot 21.45 uur.\nIedere donderdag van 19.00 tot 20.00 uur + van 20.15 tot 21.15 uur.\nBelangstelling\, vragen en/of aanmelden: via WhatsApp of via email.
URL:https://trynwalderein.nl/event/yin-yoga/2026-04-07/
LOCATION:Frisiastate 24\, Frisiastate 23\, Oentsjerk\, Friesland\, Netherlands
ATTACH;FMTTYPE=image/jpeg:https://trynwalderein.nl/wp-content/uploads/2025/11/yinyan.jpg
ORGANIZER;CN="lavendelwellness.nl":MAILTO:welkom@lavendelwellness.nl
END:VEVENT
BEGIN:VEVENT
DTSTART;TZID=UTC:20260408T100000
DTEND;TZID=UTC:20260408T120000
DTSTAMP:20260424T132948
CREATED:20251111T120706Z
LAST-MODIFIED:20251111T120706Z
UID:10000545-1775642400-1775649600@trynwalderein.nl
SUMMARY:Inloop-koffie-ochtend Gytsjerk 'Sa Leuk Hûs'
DESCRIPTION:Iedere woensdag van 10.00 tot 12.00 uur \nVoor ouderen uit de omgeving\, gezamenlijk koffiedrinken en een gezellig praatje
URL:https://trynwalderein.nl/event/inloop-koffie-ochtend-gytsjerk-sa-leuk-hus/2026-04-08/
LOCATION:Canterlandseweg 1\, Gytsjerk\, Canterlandseweg 1\, Gytsjerk\, Friesland\, Netherlands
ATTACH;FMTTYPE=image/jpeg:https://trynwalderein.nl/wp-content/uploads/2025/11/ouderkoffie.jpg
ORGANIZER;CN="Sa Leuk H%C3%BBs":MAILTO:info@saleukhus.nl
END:VEVENT
BEGIN:VEVENT
DTSTART;TZID=UTC:20260408T133000
DTEND;TZID=UTC:20260408T163000
DTSTAMP:20260424T132948
CREATED:20251112T133654Z
LAST-MODIFIED:20251112T133654Z
UID:10001068-1775655000-1775665800@trynwalderein.nl
SUMMARY:Klaverjasgroep
DESCRIPTION:Kom ook klaverjassen in Heemstra State.
URL:https://trynwalderein.nl/event/klaverjasgroep/2026-04-08/
LOCATION:Heemstra State\, Frisiastate 23\, Oentsjerk\, Friesland\, Netherlands
ATTACH;FMTTYPE=image/jpeg:https://trynwalderein.nl/wp-content/uploads/2025/11/klaverjas.jpg
ORGANIZER;CN="noflikdwaande":MAILTO:info@noflikdwaande.nl
END:VEVENT
BEGIN:VEVENT
DTSTART;TZID=Europe/Amsterdam:20260409T150000
DTEND;TZID=Europe/Amsterdam:20260409T170000
DTSTAMP:20260424T132948
CREATED:20251110T102902Z
LAST-MODIFIED:20251111T114429Z
UID:10000283-1775746800-1775754000@trynwalderein.nl
SUMMARY:Koffiemiddag De Bân/Dbieb Gytsjerk
DESCRIPTION:Gezellig samenzijn met iedere donderdagmiddag een activiteit: spelletje\, discussie met behulp van vragen\, muziek\, zang en dergelijke.
URL:https://trynwalderein.nl/event/koffiemiddag-de-ban-dbieb-gytsjerk/2026-04-09/
LOCATION:Dorpshuis De Bân in bibliotheek Dbieb\, Simke Kloostermanstrjitte 6\, Gytsjerk\, Friesland\, 9061 BE\, Netherlands
ATTACH;FMTTYPE=image/jpeg:https://trynwalderein.nl/wp-content/uploads/2025/11/koffiemoment.jpg
ORGANIZER;CN="De B%C3%A2n/Dbieb Gytsjerk":MAILTO:ninibrink37@gmail.com
END:VEVENT
BEGIN:VEVENT
DTSTART;TZID=UTC:20260410T150000
DTEND;TZID=UTC:20260410T163000
DTSTAMP:20260424T132948
CREATED:20251112T155051Z
LAST-MODIFIED:20251112T155051Z
UID:10001591-1775833200-1775838600@trynwalderein.nl
SUMMARY:Digi-inloop
DESCRIPTION:deskundige hulp en advies bij problemen met computer\, smartphone of tablet.
URL:https://trynwalderein.nl/event/digi-inloop/2026-04-10/
LOCATION:Dorpshuis De Bân in bibliotheek Dbieb\, Simke Kloostermanstrjitte 6\, Gytsjerk\, Friesland\, 9061 BE\, Netherlands
ATTACH;FMTTYPE=image/jpeg:https://trynwalderein.nl/wp-content/uploads/2025/11/digiinloop.jpg
ORGANIZER;CN="De B%C3%A2n/Dbieb Gytsjerk":MAILTO:ninibrink37@gmail.com
END:VEVENT
BEGIN:VEVENT
DTSTART;TZID=UTC:20260413T093000
DTEND;TZID=UTC:20260413T113000
DTSTAMP:20260424T132948
CREATED:20251112T125506Z
LAST-MODIFIED:20251112T125506Z
UID:10000807-1776072600-1776079800@trynwalderein.nl
SUMMARY:Ontmoetingsplek Noflik Dwaande
DESCRIPTION:Voor alle inwoners in de Trynwâlden\, die gezellig samen willen zijn\, actief willen blijven of gezellig even willen praten.\nOp maandag: creatieve vaardigheid en op woensdag: handwerk
URL:https://trynwalderein.nl/event/ontmoetingsplek-noflik-dwaande/2026-04-13/
LOCATION:Frisiastate 24\, Frisiastate 24\, Oentsjerk\, Friesland\, Netherlands
ATTACH;FMTTYPE=image/jpeg:https://trynwalderein.nl/wp-content/uploads/2025/11/creatief.jpg
ORGANIZER;CN="Noflyk Wenje":MAILTO:info@noflikdwaande.nl
END:VEVENT
BEGIN:VEVENT
DTSTART;TZID=UTC:20260414T193000
DTEND;TZID=UTC:20260414T203000
DTSTAMP:20260424T132948
CREATED:20251112T154415Z
LAST-MODIFIED:20251112T154415Z
UID:10001330-1776195000-1776198600@trynwalderein.nl
SUMMARY:Yin Yoga
DESCRIPTION:een gezonde manier van bewegen die aansluit bij jouw lichaam. Het is een langzame vorm van yoga voor rustige houdingen die langere tijd worden vastgehouden. Toegankelijk voor iedereen uit Trynwȃlden.\nIedere dinsdag van 19.30 tot 20.30 uur + van 20.45 tot 21.45 uur.\nIedere donderdag van 19.00 tot 20.00 uur + van 20.15 tot 21.15 uur.\nBelangstelling\, vragen en/of aanmelden: via WhatsApp of via email.
URL:https://trynwalderein.nl/event/yin-yoga/2026-04-14/
LOCATION:Frisiastate 24\, Frisiastate 23\, Oentsjerk\, Friesland\, Netherlands
ATTACH;FMTTYPE=image/jpeg:https://trynwalderein.nl/wp-content/uploads/2025/11/yinyan.jpg
ORGANIZER;CN="lavendelwellness.nl":MAILTO:welkom@lavendelwellness.nl
END:VEVENT
BEGIN:VEVENT
DTSTART;TZID=UTC:20260415T100000
DTEND;TZID=UTC:20260415T120000
DTSTAMP:20260424T132948
CREATED:20251111T120706Z
LAST-MODIFIED:20251111T120706Z
UID:10000546-1776247200-1776254400@trynwalderein.nl
SUMMARY:Inloop-koffie-ochtend Gytsjerk 'Sa Leuk Hûs'
DESCRIPTION:Iedere woensdag van 10.00 tot 12.00 uur \nVoor ouderen uit de omgeving\, gezamenlijk koffiedrinken en een gezellig praatje
URL:https://trynwalderein.nl/event/inloop-koffie-ochtend-gytsjerk-sa-leuk-hus/2026-04-15/
LOCATION:Canterlandseweg 1\, Gytsjerk\, Canterlandseweg 1\, Gytsjerk\, Friesland\, Netherlands
ATTACH;FMTTYPE=image/jpeg:https://trynwalderein.nl/wp-content/uploads/2025/11/ouderkoffie.jpg
ORGANIZER;CN="Sa Leuk H%C3%BBs":MAILTO:info@saleukhus.nl
END:VEVENT
BEGIN:VEVENT
DTSTART;TZID=UTC:20260415T133000
DTEND;TZID=UTC:20260415T163000
DTSTAMP:20260424T132948
CREATED:20251112T133654Z
LAST-MODIFIED:20251112T133654Z
UID:10001069-1776259800-1776270600@trynwalderein.nl
SUMMARY:Klaverjasgroep
DESCRIPTION:Kom ook klaverjassen in Heemstra State.
URL:https://trynwalderein.nl/event/klaverjasgroep/2026-04-15/
LOCATION:Heemstra State\, Frisiastate 23\, Oentsjerk\, Friesland\, Netherlands
ATTACH;FMTTYPE=image/jpeg:https://trynwalderein.nl/wp-content/uploads/2025/11/klaverjas.jpg
ORGANIZER;CN="noflikdwaande":MAILTO:info@noflikdwaande.nl
END:VEVENT
BEGIN:VEVENT
DTSTART;TZID=Europe/Amsterdam:20260416T150000
DTEND;TZID=Europe/Amsterdam:20260416T170000
DTSTAMP:20260424T132948
CREATED:20251110T102902Z
LAST-MODIFIED:20251111T114429Z
UID:10000284-1776351600-1776358800@trynwalderein.nl
SUMMARY:Koffiemiddag De Bân/Dbieb Gytsjerk
DESCRIPTION:Gezellig samenzijn met iedere donderdagmiddag een activiteit: spelletje\, discussie met behulp van vragen\, muziek\, zang en dergelijke.
URL:https://trynwalderein.nl/event/koffiemiddag-de-ban-dbieb-gytsjerk/2026-04-16/
LOCATION:Dorpshuis De Bân in bibliotheek Dbieb\, Simke Kloostermanstrjitte 6\, Gytsjerk\, Friesland\, 9061 BE\, Netherlands
ATTACH;FMTTYPE=image/jpeg:https://trynwalderein.nl/wp-content/uploads/2025/11/koffiemoment.jpg
ORGANIZER;CN="De B%C3%A2n/Dbieb Gytsjerk":MAILTO:ninibrink37@gmail.com
END:VEVENT
BEGIN:VEVENT
DTSTART;TZID=UTC:20260417T150000
DTEND;TZID=UTC:20260417T163000
DTSTAMP:20260424T132948
CREATED:20251112T155051Z
LAST-MODIFIED:20251112T155051Z
UID:10001592-1776438000-1776443400@trynwalderein.nl
SUMMARY:Digi-inloop
DESCRIPTION:deskundige hulp en advies bij problemen met computer\, smartphone of tablet.
URL:https://trynwalderein.nl/event/digi-inloop/2026-04-17/
LOCATION:Dorpshuis De Bân in bibliotheek Dbieb\, Simke Kloostermanstrjitte 6\, Gytsjerk\, Friesland\, 9061 BE\, Netherlands
ATTACH;FMTTYPE=image/jpeg:https://trynwalderein.nl/wp-content/uploads/2025/11/digiinloop.jpg
ORGANIZER;CN="De B%C3%A2n/Dbieb Gytsjerk":MAILTO:ninibrink37@gmail.com
END:VEVENT
BEGIN:VEVENT
DTSTART;TZID=UTC:20260420T093000
DTEND;TZID=UTC:20260420T113000
DTSTAMP:20260424T132948
CREATED:20251112T125506Z
LAST-MODIFIED:20251112T125506Z
UID:10000808-1776677400-1776684600@trynwalderein.nl
SUMMARY:Ontmoetingsplek Noflik Dwaande
DESCRIPTION:Voor alle inwoners in de Trynwâlden\, die gezellig samen willen zijn\, actief willen blijven of gezellig even willen praten.\nOp maandag: creatieve vaardigheid en op woensdag: handwerk
URL:https://trynwalderein.nl/event/ontmoetingsplek-noflik-dwaande/2026-04-20/
LOCATION:Frisiastate 24\, Frisiastate 24\, Oentsjerk\, Friesland\, Netherlands
ATTACH;FMTTYPE=image/jpeg:https://trynwalderein.nl/wp-content/uploads/2025/11/creatief.jpg
ORGANIZER;CN="Noflyk Wenje":MAILTO:info@noflikdwaande.nl
END:VEVENT
BEGIN:VEVENT
DTSTART;TZID=UTC:20260421T193000
DTEND;TZID=UTC:20260421T203000
DTSTAMP:20260424T132948
CREATED:20251112T154415Z
LAST-MODIFIED:20251112T154415Z
UID:10001331-1776799800-1776803400@trynwalderein.nl
SUMMARY:Yin Yoga
DESCRIPTION:een gezonde manier van bewegen die aansluit bij jouw lichaam. Het is een langzame vorm van yoga voor rustige houdingen die langere tijd worden vastgehouden. Toegankelijk voor iedereen uit Trynwȃlden.\nIedere dinsdag van 19.30 tot 20.30 uur + van 20.45 tot 21.45 uur.\nIedere donderdag van 19.00 tot 20.00 uur + van 20.15 tot 21.15 uur.\nBelangstelling\, vragen en/of aanmelden: via WhatsApp of via email.
URL:https://trynwalderein.nl/event/yin-yoga/2026-04-21/
LOCATION:Frisiastate 24\, Frisiastate 23\, Oentsjerk\, Friesland\, Netherlands
ATTACH;FMTTYPE=image/jpeg:https://trynwalderein.nl/wp-content/uploads/2025/11/yinyan.jpg
ORGANIZER;CN="lavendelwellness.nl":MAILTO:welkom@lavendelwellness.nl
END:VEVENT
BEGIN:VEVENT
DTSTART;TZID=UTC:20260422T100000
DTEND;TZID=UTC:20260422T120000
DTSTAMP:20260424T132948
CREATED:20251111T120706Z
LAST-MODIFIED:20251111T120706Z
UID:10000547-1776852000-1776859200@trynwalderein.nl
SUMMARY:Inloop-koffie-ochtend Gytsjerk 'Sa Leuk Hûs'
DESCRIPTION:Iedere woensdag van 10.00 tot 12.00 uur \nVoor ouderen uit de omgeving\, gezamenlijk koffiedrinken en een gezellig praatje
URL:https://trynwalderein.nl/event/inloop-koffie-ochtend-gytsjerk-sa-leuk-hus/2026-04-22/
LOCATION:Canterlandseweg 1\, Gytsjerk\, Canterlandseweg 1\, Gytsjerk\, Friesland\, Netherlands
ATTACH;FMTTYPE=image/jpeg:https://trynwalderein.nl/wp-content/uploads/2025/11/ouderkoffie.jpg
ORGANIZER;CN="Sa Leuk H%C3%BBs":MAILTO:info@saleukhus.nl
END:VEVENT
BEGIN:VEVENT
DTSTART;TZID=UTC:20260422T133000
DTEND;TZID=UTC:20260422T163000
DTSTAMP:20260424T132948
CREATED:20251112T133654Z
LAST-MODIFIED:20251112T133654Z
UID:10001070-1776864600-1776875400@trynwalderein.nl
SUMMARY:Klaverjasgroep
DESCRIPTION:Kom ook klaverjassen in Heemstra State.
URL:https://trynwalderein.nl/event/klaverjasgroep/2026-04-22/
LOCATION:Heemstra State\, Frisiastate 23\, Oentsjerk\, Friesland\, Netherlands
ATTACH;FMTTYPE=image/jpeg:https://trynwalderein.nl/wp-content/uploads/2025/11/klaverjas.jpg
ORGANIZER;CN="noflikdwaande":MAILTO:info@noflikdwaande.nl
END:VEVENT
BEGIN:VEVENT
DTSTART;TZID=Europe/Amsterdam:20260423T150000
DTEND;TZID=Europe/Amsterdam:20260423T170000
DTSTAMP:20260424T132948
CREATED:20251110T102902Z
LAST-MODIFIED:20251111T114429Z
UID:10000285-1776956400-1776963600@trynwalderein.nl
SUMMARY:Koffiemiddag De Bân/Dbieb Gytsjerk
DESCRIPTION:Gezellig samenzijn met iedere donderdagmiddag een activiteit: spelletje\, discussie met behulp van vragen\, muziek\, zang en dergelijke.
URL:https://trynwalderein.nl/event/koffiemiddag-de-ban-dbieb-gytsjerk/2026-04-23/
LOCATION:Dorpshuis De Bân in bibliotheek Dbieb\, Simke Kloostermanstrjitte 6\, Gytsjerk\, Friesland\, 9061 BE\, Netherlands
ATTACH;FMTTYPE=image/jpeg:https://trynwalderein.nl/wp-content/uploads/2025/11/koffiemoment.jpg
ORGANIZER;CN="De B%C3%A2n/Dbieb Gytsjerk":MAILTO:ninibrink37@gmail.com
END:VEVENT
BEGIN:VEVENT
DTSTART;TZID=UTC:20260424T150000
DTEND;TZID=UTC:20260424T163000
DTSTAMP:20260424T132948
CREATED:20251112T155051Z
LAST-MODIFIED:20251112T155051Z
UID:10001593-1777042800-1777048200@trynwalderein.nl
SUMMARY:Digi-inloop
DESCRIPTION:deskundige hulp en advies bij problemen met computer\, smartphone of tablet.
URL:https://trynwalderein.nl/event/digi-inloop/2026-04-24/
LOCATION:Dorpshuis De Bân in bibliotheek Dbieb\, Simke Kloostermanstrjitte 6\, Gytsjerk\, Friesland\, 9061 BE\, Netherlands
ATTACH;FMTTYPE=image/jpeg:https://trynwalderein.nl/wp-content/uploads/2025/11/digiinloop.jpg
ORGANIZER;CN="De B%C3%A2n/Dbieb Gytsjerk":MAILTO:ninibrink37@gmail.com
END:VEVENT
BEGIN:VEVENT
DTSTART;TZID=UTC:20260427T093000
DTEND;TZID=UTC:20260427T113000
DTSTAMP:20260424T132948
CREATED:20251112T125506Z
LAST-MODIFIED:20251112T125506Z
UID:10000809-1777282200-1777289400@trynwalderein.nl
SUMMARY:Ontmoetingsplek Noflik Dwaande
DESCRIPTION:Voor alle inwoners in de Trynwâlden\, die gezellig samen willen zijn\, actief willen blijven of gezellig even willen praten.\nOp maandag: creatieve vaardigheid en op woensdag: handwerk
URL:https://trynwalderein.nl/event/ontmoetingsplek-noflik-dwaande/2026-04-27/
LOCATION:Frisiastate 24\, Frisiastate 24\, Oentsjerk\, Friesland\, Netherlands
ATTACH;FMTTYPE=image/jpeg:https://trynwalderein.nl/wp-content/uploads/2025/11/creatief.jpg
ORGANIZER;CN="Noflyk Wenje":MAILTO:info@noflikdwaande.nl
END:VEVENT
BEGIN:VEVENT
DTSTART;TZID=UTC:20260428T193000
DTEND;TZID=UTC:20260428T203000
DTSTAMP:20260424T132948
CREATED:20251112T154415Z
LAST-MODIFIED:20251112T154415Z
UID:10001332-1777404600-1777408200@trynwalderein.nl
SUMMARY:Yin Yoga
DESCRIPTION:een gezonde manier van bewegen die aansluit bij jouw lichaam. Het is een langzame vorm van yoga voor rustige houdingen die langere tijd worden vastgehouden. Toegankelijk voor iedereen uit Trynwȃlden.\nIedere dinsdag van 19.30 tot 20.30 uur + van 20.45 tot 21.45 uur.\nIedere donderdag van 19.00 tot 20.00 uur + van 20.15 tot 21.15 uur.\nBelangstelling\, vragen en/of aanmelden: via WhatsApp of via email.
URL:https://trynwalderein.nl/event/yin-yoga/2026-04-28/
LOCATION:Frisiastate 24\, Frisiastate 23\, Oentsjerk\, Friesland\, Netherlands
ATTACH;FMTTYPE=image/jpeg:https://trynwalderein.nl/wp-content/uploads/2025/11/yinyan.jpg
ORGANIZER;CN="lavendelwellness.nl":MAILTO:welkom@lavendelwellness.nl
END:VEVENT
BEGIN:VEVENT
DTSTART;TZID=UTC:20260429T100000
DTEND;TZID=UTC:20260429T120000
DTSTAMP:20260424T132948
CREATED:20251111T120706Z
LAST-MODIFIED:20251111T120706Z
UID:10000548-1777456800-1777464000@trynwalderein.nl
SUMMARY:Inloop-koffie-ochtend Gytsjerk 'Sa Leuk Hûs'
DESCRIPTION:Iedere woensdag van 10.00 tot 12.00 uur \nVoor ouderen uit de omgeving\, gezamenlijk koffiedrinken en een gezellig praatje
URL:https://trynwalderein.nl/event/inloop-koffie-ochtend-gytsjerk-sa-leuk-hus/2026-04-29/
LOCATION:Canterlandseweg 1\, Gytsjerk\, Canterlandseweg 1\, Gytsjerk\, Friesland\, Netherlands
ATTACH;FMTTYPE=image/jpeg:https://trynwalderein.nl/wp-content/uploads/2025/11/ouderkoffie.jpg
ORGANIZER;CN="Sa Leuk H%C3%BBs":MAILTO:info@saleukhus.nl
END:VEVENT
BEGIN:VEVENT
DTSTART;TZID=UTC:20260429T133000
DTEND;TZID=UTC:20260429T163000
DTSTAMP:20260424T132948
CREATED:20251112T133654Z
LAST-MODIFIED:20251112T133654Z
UID:10001071-1777469400-1777480200@trynwalderein.nl
SUMMARY:Klaverjasgroep
DESCRIPTION:Kom ook klaverjassen in Heemstra State.
URL:https://trynwalderein.nl/event/klaverjasgroep/2026-04-29/
LOCATION:Heemstra State\, Frisiastate 23\, Oentsjerk\, Friesland\, Netherlands
ATTACH;FMTTYPE=image/jpeg:https://trynwalderein.nl/wp-content/uploads/2025/11/klaverjas.jpg
ORGANIZER;CN="noflikdwaande":MAILTO:info@noflikdwaande.nl
END:VEVENT
BEGIN:VEVENT
DTSTART;TZID=Europe/Amsterdam:20260430T150000
DTEND;TZID=Europe/Amsterdam:20260430T170000
DTSTAMP:20260424T132948
CREATED:20251110T102902Z
LAST-MODIFIED:20251111T114429Z
UID:10000286-1777561200-1777568400@trynwalderein.nl
SUMMARY:Koffiemiddag De Bân/Dbieb Gytsjerk
DESCRIPTION:Gezellig samenzijn met iedere donderdagmiddag een activiteit: spelletje\, discussie met behulp van vragen\, muziek\, zang en dergelijke.
URL:https://trynwalderein.nl/event/koffiemiddag-de-ban-dbieb-gytsjerk/2026-04-30/
LOCATION:Dorpshuis De Bân in bibliotheek Dbieb\, Simke Kloostermanstrjitte 6\, Gytsjerk\, Friesland\, 9061 BE\, Netherlands
ATTACH;FMTTYPE=image/jpeg:https://trynwalderein.nl/wp-content/uploads/2025/11/koffiemoment.jpg
ORGANIZER;CN="De B%C3%A2n/Dbieb Gytsjerk":MAILTO:ninibrink37@gmail.com
END:VEVENT
BEGIN:VEVENT
DTSTART;TZID=UTC:20260501T150000
DTEND;TZID=UTC:20260501T163000
DTSTAMP:20260424T132948
CREATED:20251112T155051Z
LAST-MODIFIED:20251112T155051Z
UID:10001594-1777647600-1777653000@trynwalderein.nl
SUMMARY:Digi-inloop
DESCRIPTION:deskundige hulp en advies bij problemen met computer\, smartphone of tablet.
URL:https://trynwalderein.nl/event/digi-inloop/2026-05-01/
LOCATION:Dorpshuis De Bân in bibliotheek Dbieb\, Simke Kloostermanstrjitte 6\, Gytsjerk\, Friesland\, 9061 BE\, Netherlands
ATTACH;FMTTYPE=image/jpeg:https://trynwalderein.nl/wp-content/uploads/2025/11/digiinloop.jpg
ORGANIZER;CN="De B%C3%A2n/Dbieb Gytsjerk":MAILTO:ninibrink37@gmail.com
END:VEVENT
BEGIN:VEVENT
DTSTART;TZID=UTC:20260504T093000
DTEND;TZID=UTC:20260504T113000
DTSTAMP:20260424T132948
CREATED:20251112T125506Z
LAST-MODIFIED:20251112T125506Z
UID:10000810-1777887000-1777894200@trynwalderein.nl
SUMMARY:Ontmoetingsplek Noflik Dwaande
DESCRIPTION:Voor alle inwoners in de Trynwâlden\, die gezellig samen willen zijn\, actief willen blijven of gezellig even willen praten.\nOp maandag: creatieve vaardigheid en op woensdag: handwerk
URL:https://trynwalderein.nl/event/ontmoetingsplek-noflik-dwaande/2026-05-04/
LOCATION:Frisiastate 24\, Frisiastate 24\, Oentsjerk\, Friesland\, Netherlands
ATTACH;FMTTYPE=image/jpeg:https://trynwalderein.nl/wp-content/uploads/2025/11/creatief.jpg
ORGANIZER;CN="Noflyk Wenje":MAILTO:info@noflikdwaande.nl
END:VEVENT
BEGIN:VEVENT
DTSTART;TZID=UTC:20260505T193000
DTEND;TZID=UTC:20260505T203000
DTSTAMP:20260424T132948
CREATED:20251112T154415Z
LAST-MODIFIED:20251112T154415Z
UID:10001333-1778009400-1778013000@trynwalderein.nl
SUMMARY:Yin Yoga
DESCRIPTION:een gezonde manier van bewegen die aansluit bij jouw lichaam. Het is een langzame vorm van yoga voor rustige houdingen die langere tijd worden vastgehouden. Toegankelijk voor iedereen uit Trynwȃlden.\nIedere dinsdag van 19.30 tot 20.30 uur + van 20.45 tot 21.45 uur.\nIedere donderdag van 19.00 tot 20.00 uur + van 20.15 tot 21.15 uur.\nBelangstelling\, vragen en/of aanmelden: via WhatsApp of via email.
URL:https://trynwalderein.nl/event/yin-yoga/2026-05-05/
LOCATION:Frisiastate 24\, Frisiastate 23\, Oentsjerk\, Friesland\, Netherlands
ATTACH;FMTTYPE=image/jpeg:https://trynwalderein.nl/wp-content/uploads/2025/11/yinyan.jpg
ORGANIZER;CN="lavendelwellness.nl":MAILTO:welkom@lavendelwellness.nl
END:VEVENT
END:VCALENDAR