BEGIN:VCALENDAR
VERSION:2.0
PRODID:-//Trynwâlderein - ECPv6.15.11//NONSGML v1.0//EN
CALSCALE:GREGORIAN
METHOD:PUBLISH
X-ORIGINAL-URL:https://trynwalderein.nl
X-WR-CALDESC:Evenementen voor Trynwâlderein
REFRESH-INTERVAL;VALUE=DURATION:PT1H
X-Robots-Tag:noindex
X-PUBLISHED-TTL:PT1H
BEGIN:VTIMEZONE
TZID:UTC
BEGIN:STANDARD
TZOFFSETFROM:+0000
TZOFFSETTO:+0000
TZNAME:UTC
DTSTART:20250101T000000
END:STANDARD
END:VTIMEZONE
BEGIN:VEVENT
DTSTART;TZID=UTC:20260205T200000
DTEND;TZID=UTC:20260205T220000
DTSTAMP:20260424T222505
CREATED:20260105T131719Z
LAST-MODIFIED:20260105T131719Z
UID:10001833-1770321600-1770328800@trynwalderein.nl
SUMMARY:Ouder worden als andere ervaring\, lezing Suzanne Biewinga
DESCRIPTION:Op uitnodiging van Trynwâlderein houdt filosoof Suzanne Biewinga op 5 februari een inleiding over ‘Ouder worden als (andere) ervaring’.\nIn de vergrijzende samenleving van de 21e eeuw is de vraag naar betekenisvol ouder worden uiterst actueel. Traditionele antwoorden op deze vraag passen niet bij de nieuwe werkelijkheid van de huidige tijd. Gangbare clichés bieden evenmin een handvat: ouder worden is niet ‘jong blijven’ en betekent evenmin alleen maar verlies en verval. Maar wat is het dan wel?\nFilosoof Suzanne Biewinga pleit in haar inleiding voor een nieuwe manier van spreken over ouder worden\, aansluitend bij de ervaring van ouderen zelf. Zij baseert zich daarbij op tal van filosofische groepsgesprekken met oudere mensen en op hedendaagse en antieke denkers. Door de ervaringen\, inzichten\, zorgen en verlangens van ouderen centraal te stellen\, komt ze tot heldere inzichten over wat betekenisvol ouder worden is – en wat niet.\nSuzanne Biewinga studeerde op latere leeftijd filosofie\, nadat zij vele jaren werkzaam was geweest als ondersteuner van patiëntenorganisaties en als coördinator van een hospice. Zij promoveerde begin 2025 als zeventigjarige aan de Universiteit van Amsterdam op haar onderzoek naar een nieuwe filosofie van ouder worden als ervaring. Kort na haar promotie verscheen haar boek Ouder worden als ervaring\, filosofie van het late leven. Het boek groeide in korte tijd uit tot een filosofische bestseller en staat op de longlist voor de Socratesbeker 2026.\nDe lezing vindt plaats op 5 februari in Pro Rege\, Rengersweg 15 in Oentsjerk. Aanvang 20.00 u. Toegang gratis\, aanmelden niet nodig
URL:https://trynwalderein.nl/event/ouder-worden-als-andere-ervaring-lezing-suzanne-biewinga/
LOCATION:Pro Rege\, Rengersweg 15\, Oentsjerk\, Fryslân\, Netherlands
ATTACH;FMTTYPE=image/jpeg:https://trynwalderein.nl/wp-content/uploads/2025/12/lezing.jpg
END:VEVENT
END:VCALENDAR